BEGIN:VCALENDAR
VERSION:2.0
PRODID:-//Willowbridge - ECPv6.15.20//NONSGML v1.0//EN
CALSCALE:GREGORIAN
METHOD:PUBLISH
X-WR-CALNAME:Willowbridge
X-ORIGINAL-URL:https://willowbridge.ca
X-WR-CALDESC:Events for Willowbridge
REFRESH-INTERVAL;VALUE=DURATION:PT1H
X-Robots-Tag:noindex
X-PUBLISHED-TTL:PT1H
BEGIN:VTIMEZONE
TZID:America/Toronto
BEGIN:DAYLIGHT
TZOFFSETFROM:-0500
TZOFFSETTO:-0400
TZNAME:EDT
DTSTART:20230312T070000
END:DAYLIGHT
BEGIN:STANDARD
TZOFFSETFROM:-0400
TZOFFSETTO:-0500
TZNAME:EST
DTSTART:20231105T060000
END:STANDARD
BEGIN:DAYLIGHT
TZOFFSETFROM:-0500
TZOFFSETTO:-0400
TZNAME:EDT
DTSTART:20240310T070000
END:DAYLIGHT
BEGIN:STANDARD
TZOFFSETFROM:-0400
TZOFFSETTO:-0500
TZNAME:EST
DTSTART:20241103T060000
END:STANDARD
BEGIN:DAYLIGHT
TZOFFSETFROM:-0500
TZOFFSETTO:-0400
TZNAME:EDT
DTSTART:20250309T070000
END:DAYLIGHT
BEGIN:STANDARD
TZOFFSETFROM:-0400
TZOFFSETTO:-0500
TZNAME:EST
DTSTART:20251102T060000
END:STANDARD
END:VTIMEZONE
BEGIN:VEVENT
DTSTART;TZID=America/Toronto:20241106T160000
DTEND;TZID=America/Toronto:20241106T173000
DTSTAMP:20260423T133404
CREATED:20240926T164731Z
LAST-MODIFIED:20241008T181134Z
UID:10001243-1730908800-1730914200@willowbridge.ca
SUMMARY:The Art of Identity
DESCRIPTION:Discover your true self through art! This free\, 5-week workshop for 16+ year-olds looks at the inner critic and its role\, explores different views on identity\, and helps you find out what is true about yourself.\n  \nDate: Wednesdays\, October 16 – November 13\, 2024 \nTime: 4pm – 5:30pm \nLocation: 54 Brant Avenue\, Brantford\, ON \nRegister: Contact Joanne at jtowers@willowbridge.ca\, 519-753-4173 ext. 225
URL:https://willowbridge.ca/event/the-art-of-identity/2024-11-06/
LOCATION:Willowbridge Community Services\, 54 Brant Avenue\, Brantford\, Ontario\, N3T 3G8\, Canada
CATEGORIES:Community Group
ATTACH;FMTTYPE=image/png:https://willowbridge.ca/wp-content/uploads/2024/09/Website-Event-Banners-8.png
END:VEVENT
BEGIN:VEVENT
DTSTART;TZID=America/Toronto:20241106T163000
DTEND;TZID=America/Toronto:20241106T180000
DTSTAMP:20260423T133404
CREATED:20240926T153219Z
LAST-MODIFIED:20241001T180936Z
UID:10001174-1730910600-1730916000@willowbridge.ca
SUMMARY:Palventure
DESCRIPTION:Come join us at PalVenture\, our free group for boys aged 12-17 with developmental disabilities. Learn new socialization skills and conversation topics while making new friends.\n  \nCost: FREE! \nWhen: Wednesdays\, 4:30PM-6PM \nDates: October 16 – December 4\, 2024 \nLocation: 54 Brant Ave\, Brantford ON \nRegistration: Email or call Reegan Cameron at rcameron@willowbridge.ca\, 519-753-4173 ext. 297 to register. Registration closes October 11\, 2024. \n 
URL:https://willowbridge.ca/event/palventure/2024-11-06/
LOCATION:Willowbridge Community Services\, 54 Brant Avenue\, Brantford\, Ontario\, N3T 3G8\, Canada
CATEGORIES:Developmental Services Group
ATTACH;FMTTYPE=image/png:https://willowbridge.ca/wp-content/uploads/2024/09/5.png
END:VEVENT
END:VCALENDAR