BEGIN:VCALENDAR
VERSION:2.0
PRODID:-//Willowbridge - ECPv6.15.20//NONSGML v1.0//EN
CALSCALE:GREGORIAN
METHOD:PUBLISH
X-WR-CALNAME:Willowbridge
X-ORIGINAL-URL:https://willowbridge.ca
X-WR-CALDESC:Events for Willowbridge
REFRESH-INTERVAL;VALUE=DURATION:PT1H
X-Robots-Tag:noindex
X-PUBLISHED-TTL:PT1H
BEGIN:VTIMEZONE
TZID:America/Toronto
BEGIN:DAYLIGHT
TZOFFSETFROM:-0500
TZOFFSETTO:-0400
TZNAME:EDT
DTSTART:20240310T070000
END:DAYLIGHT
BEGIN:STANDARD
TZOFFSETFROM:-0400
TZOFFSETTO:-0500
TZNAME:EST
DTSTART:20241103T060000
END:STANDARD
BEGIN:DAYLIGHT
TZOFFSETFROM:-0500
TZOFFSETTO:-0400
TZNAME:EDT
DTSTART:20250309T070000
END:DAYLIGHT
BEGIN:STANDARD
TZOFFSETFROM:-0400
TZOFFSETTO:-0500
TZNAME:EST
DTSTART:20251102T060000
END:STANDARD
BEGIN:DAYLIGHT
TZOFFSETFROM:-0500
TZOFFSETTO:-0400
TZNAME:EDT
DTSTART:20260308T070000
END:DAYLIGHT
BEGIN:STANDARD
TZOFFSETFROM:-0400
TZOFFSETTO:-0500
TZNAME:EST
DTSTART:20261101T060000
END:STANDARD
END:VTIMEZONE
BEGIN:VEVENT
DTSTART;TZID=America/Toronto:20250930T133000
DTEND;TZID=America/Toronto:20250930T153000
DTSTAMP:20260423T043831
CREATED:20250908T125158Z
LAST-MODIFIED:20250908T125158Z
UID:10001439-1759239000-1759246200@willowbridge.ca
SUMMARY:Moving Beyond Grief
DESCRIPTION:Grief shows up in many different ways\, but you don’t have to go through it alone. If you’re coping with the loss of a loved one\, we’re here to support you as you work through difficult emotions and take steps toward healing. \nCo-developed by our counselling and developmental services teams\, we’ll provide strategies to help you find peace again. \nDate: September 30\, 2025Time: 1:30 P.M. to 3:30 P.M.\nAge Range: Developmental Services Adults Only\nLocation: Willowbridge – 54 Brant Ave.\nCost: Free!\nRegistration: To register\, contact Emily at estonemann@willowbridge.ca
URL:https://willowbridge.ca/event/moving-beyond-grief/
LOCATION:Willowbridge Community Services\, 54 Brant Avenue\, Brantford\, Ontario\, N3T 3G8\, Canada
CATEGORIES:Developmental Services Group
END:VEVENT
END:VCALENDAR