BEGIN:VCALENDAR
VERSION:2.0
PRODID:-//Willowbridge - ECPv6.15.20//NONSGML v1.0//EN
CALSCALE:GREGORIAN
METHOD:PUBLISH
X-WR-CALNAME:Willowbridge
X-ORIGINAL-URL:https://willowbridge.ca
X-WR-CALDESC:Events for Willowbridge
REFRESH-INTERVAL;VALUE=DURATION:PT1H
X-Robots-Tag:noindex
X-PUBLISHED-TTL:PT1H
BEGIN:VTIMEZONE
TZID:America/Toronto
BEGIN:DAYLIGHT
TZOFFSETFROM:-0500
TZOFFSETTO:-0400
TZNAME:EDT
DTSTART:20250309T070000
END:DAYLIGHT
BEGIN:STANDARD
TZOFFSETFROM:-0400
TZOFFSETTO:-0500
TZNAME:EST
DTSTART:20251102T060000
END:STANDARD
BEGIN:DAYLIGHT
TZOFFSETFROM:-0500
TZOFFSETTO:-0400
TZNAME:EDT
DTSTART:20260308T070000
END:DAYLIGHT
BEGIN:STANDARD
TZOFFSETFROM:-0400
TZOFFSETTO:-0500
TZNAME:EST
DTSTART:20261101T060000
END:STANDARD
BEGIN:DAYLIGHT
TZOFFSETFROM:-0500
TZOFFSETTO:-0400
TZNAME:EDT
DTSTART:20270314T070000
END:DAYLIGHT
BEGIN:STANDARD
TZOFFSETFROM:-0400
TZOFFSETTO:-0500
TZNAME:EST
DTSTART:20271107T060000
END:STANDARD
END:VTIMEZONE
BEGIN:VEVENT
DTSTART;TZID=America/Toronto:20260512T100000
DTEND;TZID=America/Toronto:20260512T120000
DTSTAMP:20260422T101015
CREATED:20260323T153014Z
LAST-MODIFIED:20260410T192014Z
UID:10001983-1778580000-1778587200@willowbridge.ca
SUMMARY:HER - Your Power Your Safety
DESCRIPTION:You deserve respect\, safety and great relationships! Join HER — a free\, weekly group for women (including trans and non-binary folk) aged 21+ with developmental disabilities who’ve been hurt\, treated badly or made to feel unsafe in their relationships. \nIn our group\, we’ll talk about: \n\nMaking friends\, exploring romance and trusting others\nSetting boundaries and saying no\nWhat safe and healthy relationships look like\n\nDate: Tuesdays from April 21 to June 16Time: 10 a.m. to 12 p.m.Location: 54 Brant Ave.\, Brantford\nCost: Free!\nRegistration*: To register\, contact Elisha at 519.753.4173\, ext. 298 or emacwhirter@willowbridge.ca
URL:https://willowbridge.ca/event/her-your-power-your-safety-2-2/2026-05-12/
LOCATION:Willowbridge Community Services\, 54 Brant Avenue\, Brantford\, Ontario\, N3T 3G8\, Canada
CATEGORIES:Developmental Services Group,Open Group
ATTACH;FMTTYPE=image/png:https://willowbridge.ca/wp-content/uploads/2025/10/1-1.png
ORGANIZER;CN="Willowbridge Community Services":MAILTO:welcome@willowbridge.ca
END:VEVENT
BEGIN:VEVENT
DTSTART;TZID=America/Toronto:20260512T103000
DTEND;TZID=America/Toronto:20260512T113000
DTSTAMP:20260422T101015
CREATED:20251006T153024Z
LAST-MODIFIED:20251030T170135Z
UID:10001448-1778581800-1778585400@willowbridge.ca
SUMMARY:Skill Up Sessions
DESCRIPTION:Join us at 10:30 a.m. once a month for free\, interactive groups on everyday skills. Each month features a new topic — from healthy living to budgeting to internet safety. Join us to expand your skillset\, meet new friends and enjoy some yummy treats! \nTopics and Schedule \n\nOctober 21\, 2025 – Staying Healthy Over the Winter\nNovember 11\, 2025 – Employment Readiness with YWCA\nDecember 9\, 2025 – Holiday Budgeting\nJanuary 13\, 2026 – Pet Therapy\nFebruary 10\, 2026 – Sexuality Clinic\nMarch 10\, 2026 – Healthy Eating\nApril 14\, 2026 – Internet Safety\nMay 12\, 2026 – Mental Health awareness\nJune 9\, 2025 – Summer Sun and Heat safety\n\nTime: 10:30 a.m. to 11:30 a.m.\nAge Range: Developmental Services Adults Only\nLocation: Gasworks – 141 Park St. N.\nCost: Free!\nRegistration: To register\, fill out the online registration form. Everyone who pre-registers and attends will receive a gift card!
URL:https://willowbridge.ca/event/skill-up-sessions/2026-05-12/
LOCATION:Willowbridge Community Services – Hamilton Office\, 141 Park Street North\, Hamilton\, Ontario\, Canada
ATTACH;FMTTYPE=image/png:https://willowbridge.ca/wp-content/uploads/2025/10/2.png
END:VEVENT
END:VCALENDAR