BEGIN:VCALENDAR
VERSION:2.0
PRODID:-//Willowbridge - ECPv6.15.20//NONSGML v1.0//EN
CALSCALE:GREGORIAN
METHOD:PUBLISH
X-ORIGINAL-URL:https://willowbridge.ca
X-WR-CALDESC:Events for Willowbridge
REFRESH-INTERVAL;VALUE=DURATION:PT1H
X-Robots-Tag:noindex
X-PUBLISHED-TTL:PT1H
BEGIN:VTIMEZONE
TZID:America/Toronto
BEGIN:DAYLIGHT
TZOFFSETFROM:-0500
TZOFFSETTO:-0400
TZNAME:EDT
DTSTART:20250309T070000
END:DAYLIGHT
BEGIN:STANDARD
TZOFFSETFROM:-0400
TZOFFSETTO:-0500
TZNAME:EST
DTSTART:20251102T060000
END:STANDARD
BEGIN:DAYLIGHT
TZOFFSETFROM:-0500
TZOFFSETTO:-0400
TZNAME:EDT
DTSTART:20260308T070000
END:DAYLIGHT
BEGIN:STANDARD
TZOFFSETFROM:-0400
TZOFFSETTO:-0500
TZNAME:EST
DTSTART:20261101T060000
END:STANDARD
BEGIN:DAYLIGHT
TZOFFSETFROM:-0500
TZOFFSETTO:-0400
TZNAME:EDT
DTSTART:20270314T070000
END:DAYLIGHT
BEGIN:STANDARD
TZOFFSETFROM:-0400
TZOFFSETTO:-0500
TZNAME:EST
DTSTART:20271107T060000
END:STANDARD
END:VTIMEZONE
BEGIN:VEVENT
DTSTART;TZID=America/Toronto:20260226T100000
DTEND;TZID=America/Toronto:20260226T110000
DTSTAMP:20260424T130203
CREATED:20251204T152251Z
LAST-MODIFIED:20260120T173547Z
UID:10001525-1772100000-1772103600@willowbridge.ca
SUMMARY:Families Helping Families: Navigating Guardianship and Power of Attorney
DESCRIPTION:As your child enters adulthood\, new systems and responsibilities can feel complex and hard to navigate. This session\, led by a parent with lived experience\, will explore advocacy\, financial planning\, housing options and guardianship considerations for caregivers of adults with developmental disabilities. \nDate: February 26\, 2025\nTime: 10 a.m. to 11 a.m.\nAge Range: Open to anyone\nCost: Free\nLocation: This event will be offered both in person and virtually. The in-person session will be held at Gasworks (141 Park St. N.\, Hamilton)\, and virtual access details will be shared by email. \nTo register\, fill out the online form. For more information\, email smcvey@willowbridge.ca.
URL:https://willowbridge.ca/event/families-helping-families-navigating-guardianship-and-power-of-attorney/
LOCATION:Ontario
CATEGORIES:Community Group,Developmental Services Group,Willowbridge Event
ATTACH;FMTTYPE=image/png:https://willowbridge.ca/wp-content/uploads/2025/12/Event-Featured-Image-1.png
END:VEVENT
END:VCALENDAR