BEGIN:VCALENDAR
VERSION:2.0
PRODID:-//Willowbridge - ECPv6.15.20//NONSGML v1.0//EN
CALSCALE:GREGORIAN
METHOD:PUBLISH
X-ORIGINAL-URL:https://willowbridge.ca
X-WR-CALDESC:Events for Willowbridge
REFRESH-INTERVAL;VALUE=DURATION:PT1H
X-Robots-Tag:noindex
X-PUBLISHED-TTL:PT1H
BEGIN:VTIMEZONE
TZID:America/Toronto
BEGIN:DAYLIGHT
TZOFFSETFROM:-0500
TZOFFSETTO:-0400
TZNAME:EDT
DTSTART:20240310T070000
END:DAYLIGHT
BEGIN:STANDARD
TZOFFSETFROM:-0400
TZOFFSETTO:-0500
TZNAME:EST
DTSTART:20241103T060000
END:STANDARD
BEGIN:DAYLIGHT
TZOFFSETFROM:-0500
TZOFFSETTO:-0400
TZNAME:EDT
DTSTART:20250309T070000
END:DAYLIGHT
BEGIN:STANDARD
TZOFFSETFROM:-0400
TZOFFSETTO:-0500
TZNAME:EST
DTSTART:20251102T060000
END:STANDARD
BEGIN:DAYLIGHT
TZOFFSETFROM:-0500
TZOFFSETTO:-0400
TZNAME:EDT
DTSTART:20260308T070000
END:DAYLIGHT
BEGIN:STANDARD
TZOFFSETFROM:-0400
TZOFFSETTO:-0500
TZNAME:EST
DTSTART:20261101T060000
END:STANDARD
END:VTIMEZONE
BEGIN:VEVENT
DTSTART;TZID=America/Toronto:20251217T090000
DTEND;TZID=America/Toronto:20251217T150000
DTSTAMP:20260421T115746
CREATED:20251030T165320Z
LAST-MODIFIED:20251030T171752Z
UID:10001469-1765962000-1765983600@willowbridge.ca
SUMMARY:Men's Counselling Link - Walk-In Sessions
DESCRIPTION:Free\, specialized walk-in single counselling sessions for men at risk of\, or who’ve engaged in challenging behaviours. Walk-in sessions are free\, 1.5 hours long and designed to be impactful\, helping you work toward building healthier relationships with yourself and others. \nDates: \n\nWednesday\, November 26 from 1 p.m. to 3 p.m.\nWednesday\, December 17 from 9 a.m. to 3 p.m.\n\nAge Range: 16 years and older\nLocation: 54 Brant Ave.\, Brantford\nCost: Free!\nRegistration: No registration required. Just walk in! Appointments will be offered on a first come\, first served basis.
URL:https://willowbridge.ca/event/mens-counselling-link-walk-in-sessions/2025-12-17/
LOCATION:Willowbridge Community Services\, 54 Brant Avenue\, Brantford\, Ontario\, N3T 3G8\, Canada
CATEGORIES:Counselling Services,Developmental Services,General Public,Willowbridge Participants
ATTACH;FMTTYPE=image/png:https://willowbridge.ca/wp-content/uploads/2025/10/4-3.png
END:VEVENT
BEGIN:VEVENT
DTSTART;TZID=America/Toronto:20251203T103000
DTEND;TZID=America/Toronto:20251203T120000
DTSTAMP:20260421T115746
CREATED:20251030T170645Z
LAST-MODIFIED:20251118T155138Z
UID:10001474-1764757800-1764763200@willowbridge.ca
SUMMARY:Thrive Workshops
DESCRIPTION:A series of supportive\, practical workshops to help build resilience\, manage stress and find balance in everyday life. \nTopics and Schedule \n\nNovember 12: Chills and Skills: Helpful strategies for managing stress.\nNovember 19: From Criticism to Kindness: Mastering the Art of Self-Compassion: Skills to help you practice self compassion.\nNovember 26: The Science of Happiness: Learn about what makes us happy (and what doesn’t) according to science\, and practical strategies for building a happier life.\nDecember 3: Coping with the Holidays: Learn skills for dealing with difficult family dynamics\, financial stress\, and loss and loneliness over the holidays.\n\nTime: 10:30 a.m. to 12 p.m.\nAge Range: Adult Ontario Works Clients Only\nCost: Free\nLocation: 54 Brant Ave.\, Brantford \nTo register\, fill out the online form. For more information\, email jperras@willowbridge.ca or call 519.753.4173\, ext. 334.
URL:https://willowbridge.ca/event/thrive-workshops/2025-12-03/
LOCATION:Willowbridge Community Services\, 54 Brant Avenue\, Brantford\, Ontario\, N3T 3G8\, Canada
CATEGORIES:Counselling Services
ATTACH;FMTTYPE=image/png:https://willowbridge.ca/wp-content/uploads/2025/10/5-1.png
ORGANIZER;CN="Willowbridge Community Services":MAILTO:welcome@willowbridge.ca
END:VEVENT
BEGIN:VEVENT
DTSTART;TZID=America/Toronto:20251126T130000
DTEND;TZID=America/Toronto:20251126T150000
DTSTAMP:20260421T115746
CREATED:20251030T165320Z
LAST-MODIFIED:20251030T171752Z
UID:10001468-1764162000-1764169200@willowbridge.ca
SUMMARY:Men's Counselling Link - Walk-In Sessions
DESCRIPTION:Free\, specialized walk-in single counselling sessions for men at risk of\, or who’ve engaged in challenging behaviours. Walk-in sessions are free\, 1.5 hours long and designed to be impactful\, helping you work toward building healthier relationships with yourself and others. \nDates: \n\nWednesday\, November 26 from 1 p.m. to 3 p.m.\nWednesday\, December 17 from 9 a.m. to 3 p.m.\n\nAge Range: 16 years and older\nLocation: 54 Brant Ave.\, Brantford\nCost: Free!\nRegistration: No registration required. Just walk in! Appointments will be offered on a first come\, first served basis.
URL:https://willowbridge.ca/event/mens-counselling-link-walk-in-sessions/2025-11-26/
LOCATION:Willowbridge Community Services\, 54 Brant Avenue\, Brantford\, Ontario\, N3T 3G8\, Canada
CATEGORIES:Counselling Services,Developmental Services,General Public,Willowbridge Participants
ATTACH;FMTTYPE=image/png:https://willowbridge.ca/wp-content/uploads/2025/10/4-3.png
END:VEVENT
BEGIN:VEVENT
DTSTART;TZID=America/Toronto:20251126T103000
DTEND;TZID=America/Toronto:20251126T120000
DTSTAMP:20260421T115746
CREATED:20251030T170645Z
LAST-MODIFIED:20251118T155138Z
UID:10001472-1764153000-1764158400@willowbridge.ca
SUMMARY:Thrive Workshops
DESCRIPTION:A series of supportive\, practical workshops to help build resilience\, manage stress and find balance in everyday life. \nTopics and Schedule \n\nNovember 12: Chills and Skills: Helpful strategies for managing stress.\nNovember 19: From Criticism to Kindness: Mastering the Art of Self-Compassion: Skills to help you practice self compassion.\nNovember 26: The Science of Happiness: Learn about what makes us happy (and what doesn’t) according to science\, and practical strategies for building a happier life.\nDecember 3: Coping with the Holidays: Learn skills for dealing with difficult family dynamics\, financial stress\, and loss and loneliness over the holidays.\n\nTime: 10:30 a.m. to 12 p.m.\nAge Range: Adult Ontario Works Clients Only\nCost: Free\nLocation: 54 Brant Ave.\, Brantford \nTo register\, fill out the online form. For more information\, email jperras@willowbridge.ca or call 519.753.4173\, ext. 334.
URL:https://willowbridge.ca/event/thrive-workshops/2025-11-26/
LOCATION:Willowbridge Community Services\, 54 Brant Avenue\, Brantford\, Ontario\, N3T 3G8\, Canada
CATEGORIES:Counselling Services
ATTACH;FMTTYPE=image/png:https://willowbridge.ca/wp-content/uploads/2025/10/5-1.png
ORGANIZER;CN="Willowbridge Community Services":MAILTO:welcome@willowbridge.ca
END:VEVENT
BEGIN:VEVENT
DTSTART;TZID=America/Toronto:20251119T103000
DTEND;TZID=America/Toronto:20251119T120000
DTSTAMP:20260421T115746
CREATED:20251030T170645Z
LAST-MODIFIED:20251118T155138Z
UID:10001471-1763548200-1763553600@willowbridge.ca
SUMMARY:Thrive Workshops
DESCRIPTION:A series of supportive\, practical workshops to help build resilience\, manage stress and find balance in everyday life. \nTopics and Schedule \n\nNovember 12: Chills and Skills: Helpful strategies for managing stress.\nNovember 19: From Criticism to Kindness: Mastering the Art of Self-Compassion: Skills to help you practice self compassion.\nNovember 26: The Science of Happiness: Learn about what makes us happy (and what doesn’t) according to science\, and practical strategies for building a happier life.\nDecember 3: Coping with the Holidays: Learn skills for dealing with difficult family dynamics\, financial stress\, and loss and loneliness over the holidays.\n\nTime: 10:30 a.m. to 12 p.m.\nAge Range: Adult Ontario Works Clients Only\nCost: Free\nLocation: 54 Brant Ave.\, Brantford \nTo register\, fill out the online form. For more information\, email jperras@willowbridge.ca or call 519.753.4173\, ext. 334.
URL:https://willowbridge.ca/event/thrive-workshops/2025-11-19/
LOCATION:Willowbridge Community Services\, 54 Brant Avenue\, Brantford\, Ontario\, N3T 3G8\, Canada
CATEGORIES:Counselling Services
ATTACH;FMTTYPE=image/png:https://willowbridge.ca/wp-content/uploads/2025/10/5-1.png
ORGANIZER;CN="Willowbridge Community Services":MAILTO:welcome@willowbridge.ca
END:VEVENT
BEGIN:VEVENT
DTSTART;TZID=America/Toronto:20251112T103000
DTEND;TZID=America/Toronto:20251112T120000
DTSTAMP:20260421T115746
CREATED:20251030T170645Z
LAST-MODIFIED:20251118T155138Z
UID:10001470-1762943400-1762948800@willowbridge.ca
SUMMARY:Thrive Workshops
DESCRIPTION:A series of supportive\, practical workshops to help build resilience\, manage stress and find balance in everyday life. \nTopics and Schedule \n\nNovember 12: Chills and Skills: Helpful strategies for managing stress.\nNovember 19: From Criticism to Kindness: Mastering the Art of Self-Compassion: Skills to help you practice self compassion.\nNovember 26: The Science of Happiness: Learn about what makes us happy (and what doesn’t) according to science\, and practical strategies for building a happier life.\nDecember 3: Coping with the Holidays: Learn skills for dealing with difficult family dynamics\, financial stress\, and loss and loneliness over the holidays.\n\nTime: 10:30 a.m. to 12 p.m.\nAge Range: Adult Ontario Works Clients Only\nCost: Free\nLocation: 54 Brant Ave.\, Brantford \nTo register\, fill out the online form. For more information\, email jperras@willowbridge.ca or call 519.753.4173\, ext. 334.
URL:https://willowbridge.ca/event/thrive-workshops/2025-11-12/
LOCATION:Willowbridge Community Services\, 54 Brant Avenue\, Brantford\, Ontario\, N3T 3G8\, Canada
CATEGORIES:Counselling Services
ATTACH;FMTTYPE=image/png:https://willowbridge.ca/wp-content/uploads/2025/10/5-1.png
ORGANIZER;CN="Willowbridge Community Services":MAILTO:welcome@willowbridge.ca
END:VEVENT
BEGIN:VEVENT
DTSTART;TZID=America/Toronto:20250925T180000
DTEND;TZID=America/Toronto:20250925T200000
DTSTAMP:20260421T115746
CREATED:20250721T124809Z
LAST-MODIFIED:20250813T171732Z
UID:10001407-1758823200-1758830400@willowbridge.ca
SUMMARY:Fireside Chat
DESCRIPTION:Hosted by our Re-Imagine Committee\, we invite you to join us for a peaceful night outdoors with comfort food\, fun activities and heartfelt discussions about life\, dreams and ambitions\, and the moments that shape us. \nDate: September 25\, 2025Time: 6 P.M. – 8 P.M.Location: Willowbridge Back Patio – 54 Brant Ave.\nCost: Free!\nRegistration*: To register\, fill out our registration form. \nFor more information\, contact Sandra by emailing skennedy@willowbridge.ca or calling 519.753.4173\, ext. 321. \n*When you pre-register and attend the event\, we’ll enter you into a draw for a chance to win a $10 Tim Horton’s gift card!
URL:https://willowbridge.ca/event/fireside-chat/
LOCATION:Willowbridge Community Services\, 54 Brant Avenue\, Brantford\, Ontario\, N3T 3G8\, Canada
CATEGORIES:Counselling Services,Developmental Services,General Public,Willowbridge Participants
ORGANIZER;CN="Willowbridge Community Services":MAILTO:welcome@willowbridge.ca
END:VEVENT
BEGIN:VEVENT
DTSTART;TZID=America/Toronto:20250907T090000
DTEND;TZID=America/Toronto:20250907T120000
DTSTAMP:20260421T115746
CREATED:20250723T204947Z
LAST-MODIFIED:20250723T204947Z
UID:10001408-1757235600-1757246400@willowbridge.ca
SUMMARY:Knights of Columbus Charity Breakfast
DESCRIPTION:Join us for a morning of great food and community connection at the Knights of Columbus Charity Breakfast\, hosted by the Knights of Columbus Brantford in support of Willowbridge Community Services. \nEnjoy a delicious all-you-can-eat breakfast featuring pancakes\, scrambled eggs\, bacon\, sausage\, home fries\, coffee\, tea and juice. Whether you’re fueling up for the day or catching up with friends\, this event is a great way to start your Sunday while supporting a meaningful cause. \nAll proceeds will support Willowbridge’s services\, helping individuals and families in our community access the care they need. \nNo registration required—just bring your appetite and your friends! \nDate: September 7\, 2025Time: 9 A.M. – NoonLocation: 12 Catharine Ave.\, Brantford\nCost: Adults – $13  |  Children Under 10 – $8 (Cash only)
URL:https://willowbridge.ca/event/koc-charity-breakfast/
LOCATION:Willowbridge Community Services\, 54 Brant Avenue\, Brantford\, Ontario\, N3T 3G8\, Canada
CATEGORIES:Counselling Services,Developmental Services,General Public,Willowbridge Participants
ORGANIZER;CN="Willowbridge Community Services":MAILTO:welcome@willowbridge.ca
END:VEVENT
END:VCALENDAR