BEGIN:VCALENDAR
VERSION:2.0
PRODID:-//Willowbridge - ECPv6.15.20//NONSGML v1.0//EN
CALSCALE:GREGORIAN
METHOD:PUBLISH
X-ORIGINAL-URL:https://willowbridge.ca
X-WR-CALDESC:Events for Willowbridge
REFRESH-INTERVAL;VALUE=DURATION:PT1H
X-Robots-Tag:noindex
X-PUBLISHED-TTL:PT1H
BEGIN:VTIMEZONE
TZID:America/Toronto
BEGIN:DAYLIGHT
TZOFFSETFROM:-0500
TZOFFSETTO:-0400
TZNAME:EDT
DTSTART:20260308T070000
END:DAYLIGHT
BEGIN:STANDARD
TZOFFSETFROM:-0400
TZOFFSETTO:-0500
TZNAME:EST
DTSTART:20261101T060000
END:STANDARD
BEGIN:DAYLIGHT
TZOFFSETFROM:-0500
TZOFFSETTO:-0400
TZNAME:EDT
DTSTART:20270314T070000
END:DAYLIGHT
BEGIN:STANDARD
TZOFFSETFROM:-0400
TZOFFSETTO:-0500
TZNAME:EST
DTSTART:20271107T060000
END:STANDARD
BEGIN:DAYLIGHT
TZOFFSETFROM:-0500
TZOFFSETTO:-0400
TZNAME:EDT
DTSTART:20280312T070000
END:DAYLIGHT
BEGIN:STANDARD
TZOFFSETFROM:-0400
TZOFFSETTO:-0500
TZNAME:EST
DTSTART:20281105T060000
END:STANDARD
BEGIN:DAYLIGHT
TZOFFSETFROM:-0500
TZOFFSETTO:-0400
TZNAME:EDT
DTSTART:20290311T070000
END:DAYLIGHT
BEGIN:STANDARD
TZOFFSETFROM:-0400
TZOFFSETTO:-0500
TZNAME:EST
DTSTART:20291104T060000
END:STANDARD
END:VTIMEZONE
BEGIN:VEVENT
DTSTART;TZID=America/Toronto:20270826T140000
DTEND;TZID=America/Toronto:20270826T150000
DTSTAMP:20260422T175134
CREATED:20230217T030713Z
LAST-MODIFIED:20260422T144450Z
UID:10000771-1819288800-1819292400@willowbridge.ca
SUMMARY:Games Group
DESCRIPTION:A mix of Bingo\, Pictionary\, and Trivia. Open to current Willowbridge participants. \n  \nTo register\, please contact:\nAmanda Downs \n905-741-4723 \nadowns@willowbridge.ca
URL:https://willowbridge.ca/event/games-group/2027-08-26/
LOCATION:Willowbridge Community Services\, 54 Brant Avenue\, Brantford\, Ontario\, N3T 3G8\, Canada
CATEGORIES:Counselling Services Group,Developmental Services Group
ATTACH;FMTTYPE=image/png:https://willowbridge.ca/wp-content/uploads/2023/02/1.png
ORGANIZER;CN="Willowbridge Community Services":MAILTO:welcome@willowbridge.ca
END:VEVENT
BEGIN:VEVENT
DTSTART;TZID=America/Toronto:20270902T140000
DTEND;TZID=America/Toronto:20270902T150000
DTSTAMP:20260422T175134
CREATED:20230217T030713Z
LAST-MODIFIED:20260422T144450Z
UID:10000772-1819893600-1819897200@willowbridge.ca
SUMMARY:Games Group
DESCRIPTION:A mix of Bingo\, Pictionary\, and Trivia. Open to current Willowbridge participants. \n  \nTo register\, please contact:\nAmanda Downs \n905-741-4723 \nadowns@willowbridge.ca
URL:https://willowbridge.ca/event/games-group/2027-09-02/
LOCATION:Willowbridge Community Services\, 54 Brant Avenue\, Brantford\, Ontario\, N3T 3G8\, Canada
CATEGORIES:Counselling Services Group,Developmental Services Group
ATTACH;FMTTYPE=image/png:https://willowbridge.ca/wp-content/uploads/2023/02/1.png
ORGANIZER;CN="Willowbridge Community Services":MAILTO:welcome@willowbridge.ca
END:VEVENT
BEGIN:VEVENT
DTSTART;TZID=America/Toronto:20270909T140000
DTEND;TZID=America/Toronto:20270909T150000
DTSTAMP:20260422T175134
CREATED:20230217T030713Z
LAST-MODIFIED:20260422T144450Z
UID:10000773-1820498400-1820502000@willowbridge.ca
SUMMARY:Games Group
DESCRIPTION:A mix of Bingo\, Pictionary\, and Trivia. Open to current Willowbridge participants. \n  \nTo register\, please contact:\nAmanda Downs \n905-741-4723 \nadowns@willowbridge.ca
URL:https://willowbridge.ca/event/games-group/2027-09-09/
LOCATION:Willowbridge Community Services\, 54 Brant Avenue\, Brantford\, Ontario\, N3T 3G8\, Canada
CATEGORIES:Counselling Services Group,Developmental Services Group
ATTACH;FMTTYPE=image/png:https://willowbridge.ca/wp-content/uploads/2023/02/1.png
ORGANIZER;CN="Willowbridge Community Services":MAILTO:welcome@willowbridge.ca
END:VEVENT
BEGIN:VEVENT
DTSTART;TZID=America/Toronto:20270916T140000
DTEND;TZID=America/Toronto:20270916T150000
DTSTAMP:20260422T175134
CREATED:20230217T030713Z
LAST-MODIFIED:20260422T144450Z
UID:10000774-1821103200-1821106800@willowbridge.ca
SUMMARY:Games Group
DESCRIPTION:A mix of Bingo\, Pictionary\, and Trivia. Open to current Willowbridge participants. \n  \nTo register\, please contact:\nAmanda Downs \n905-741-4723 \nadowns@willowbridge.ca
URL:https://willowbridge.ca/event/games-group/2027-09-16/
LOCATION:Willowbridge Community Services\, 54 Brant Avenue\, Brantford\, Ontario\, N3T 3G8\, Canada
CATEGORIES:Counselling Services Group,Developmental Services Group
ATTACH;FMTTYPE=image/png:https://willowbridge.ca/wp-content/uploads/2023/02/1.png
ORGANIZER;CN="Willowbridge Community Services":MAILTO:welcome@willowbridge.ca
END:VEVENT
BEGIN:VEVENT
DTSTART;TZID=America/Toronto:20270923T140000
DTEND;TZID=America/Toronto:20270923T150000
DTSTAMP:20260422T175134
CREATED:20230217T030713Z
LAST-MODIFIED:20260422T144450Z
UID:10000775-1821708000-1821711600@willowbridge.ca
SUMMARY:Games Group
DESCRIPTION:A mix of Bingo\, Pictionary\, and Trivia. Open to current Willowbridge participants. \n  \nTo register\, please contact:\nAmanda Downs \n905-741-4723 \nadowns@willowbridge.ca
URL:https://willowbridge.ca/event/games-group/2027-09-23/
LOCATION:Willowbridge Community Services\, 54 Brant Avenue\, Brantford\, Ontario\, N3T 3G8\, Canada
CATEGORIES:Counselling Services Group,Developmental Services Group
ATTACH;FMTTYPE=image/png:https://willowbridge.ca/wp-content/uploads/2023/02/1.png
ORGANIZER;CN="Willowbridge Community Services":MAILTO:welcome@willowbridge.ca
END:VEVENT
BEGIN:VEVENT
DTSTART;TZID=America/Toronto:20270930T140000
DTEND;TZID=America/Toronto:20270930T150000
DTSTAMP:20260422T175134
CREATED:20230217T030713Z
LAST-MODIFIED:20260422T144450Z
UID:10000776-1822312800-1822316400@willowbridge.ca
SUMMARY:Games Group
DESCRIPTION:A mix of Bingo\, Pictionary\, and Trivia. Open to current Willowbridge participants. \n  \nTo register\, please contact:\nAmanda Downs \n905-741-4723 \nadowns@willowbridge.ca
URL:https://willowbridge.ca/event/games-group/2027-09-30/
LOCATION:Willowbridge Community Services\, 54 Brant Avenue\, Brantford\, Ontario\, N3T 3G8\, Canada
CATEGORIES:Counselling Services Group,Developmental Services Group
ATTACH;FMTTYPE=image/png:https://willowbridge.ca/wp-content/uploads/2023/02/1.png
ORGANIZER;CN="Willowbridge Community Services":MAILTO:welcome@willowbridge.ca
END:VEVENT
BEGIN:VEVENT
DTSTART;TZID=America/Toronto:20271007T140000
DTEND;TZID=America/Toronto:20271007T150000
DTSTAMP:20260422T175134
CREATED:20230217T030713Z
LAST-MODIFIED:20260422T144450Z
UID:10000777-1822917600-1822921200@willowbridge.ca
SUMMARY:Games Group
DESCRIPTION:A mix of Bingo\, Pictionary\, and Trivia. Open to current Willowbridge participants. \n  \nTo register\, please contact:\nAmanda Downs \n905-741-4723 \nadowns@willowbridge.ca
URL:https://willowbridge.ca/event/games-group/2027-10-07/
LOCATION:Willowbridge Community Services\, 54 Brant Avenue\, Brantford\, Ontario\, N3T 3G8\, Canada
CATEGORIES:Counselling Services Group,Developmental Services Group
ATTACH;FMTTYPE=image/png:https://willowbridge.ca/wp-content/uploads/2023/02/1.png
ORGANIZER;CN="Willowbridge Community Services":MAILTO:welcome@willowbridge.ca
END:VEVENT
BEGIN:VEVENT
DTSTART;TZID=America/Toronto:20271014T140000
DTEND;TZID=America/Toronto:20271014T150000
DTSTAMP:20260422T175134
CREATED:20230217T030713Z
LAST-MODIFIED:20260422T144450Z
UID:10000778-1823522400-1823526000@willowbridge.ca
SUMMARY:Games Group
DESCRIPTION:A mix of Bingo\, Pictionary\, and Trivia. Open to current Willowbridge participants. \n  \nTo register\, please contact:\nAmanda Downs \n905-741-4723 \nadowns@willowbridge.ca
URL:https://willowbridge.ca/event/games-group/2027-10-14/
LOCATION:Willowbridge Community Services\, 54 Brant Avenue\, Brantford\, Ontario\, N3T 3G8\, Canada
CATEGORIES:Counselling Services Group,Developmental Services Group
ATTACH;FMTTYPE=image/png:https://willowbridge.ca/wp-content/uploads/2023/02/1.png
ORGANIZER;CN="Willowbridge Community Services":MAILTO:welcome@willowbridge.ca
END:VEVENT
BEGIN:VEVENT
DTSTART;TZID=America/Toronto:20271021T140000
DTEND;TZID=America/Toronto:20271021T150000
DTSTAMP:20260422T175134
CREATED:20230217T030713Z
LAST-MODIFIED:20260422T144450Z
UID:10000779-1824127200-1824130800@willowbridge.ca
SUMMARY:Games Group
DESCRIPTION:A mix of Bingo\, Pictionary\, and Trivia. Open to current Willowbridge participants. \n  \nTo register\, please contact:\nAmanda Downs \n905-741-4723 \nadowns@willowbridge.ca
URL:https://willowbridge.ca/event/games-group/2027-10-21/
LOCATION:Willowbridge Community Services\, 54 Brant Avenue\, Brantford\, Ontario\, N3T 3G8\, Canada
CATEGORIES:Counselling Services Group,Developmental Services Group
ATTACH;FMTTYPE=image/png:https://willowbridge.ca/wp-content/uploads/2023/02/1.png
ORGANIZER;CN="Willowbridge Community Services":MAILTO:welcome@willowbridge.ca
END:VEVENT
BEGIN:VEVENT
DTSTART;TZID=America/Toronto:20271028T140000
DTEND;TZID=America/Toronto:20271028T150000
DTSTAMP:20260422T175134
CREATED:20230217T030713Z
LAST-MODIFIED:20260422T144450Z
UID:10000780-1824732000-1824735600@willowbridge.ca
SUMMARY:Games Group
DESCRIPTION:A mix of Bingo\, Pictionary\, and Trivia. Open to current Willowbridge participants. \n  \nTo register\, please contact:\nAmanda Downs \n905-741-4723 \nadowns@willowbridge.ca
URL:https://willowbridge.ca/event/games-group/2027-10-28/
LOCATION:Willowbridge Community Services\, 54 Brant Avenue\, Brantford\, Ontario\, N3T 3G8\, Canada
CATEGORIES:Counselling Services Group,Developmental Services Group
ATTACH;FMTTYPE=image/png:https://willowbridge.ca/wp-content/uploads/2023/02/1.png
ORGANIZER;CN="Willowbridge Community Services":MAILTO:welcome@willowbridge.ca
END:VEVENT
BEGIN:VEVENT
DTSTART;TZID=America/Toronto:20271104T140000
DTEND;TZID=America/Toronto:20271104T150000
DTSTAMP:20260422T175134
CREATED:20230217T030713Z
LAST-MODIFIED:20260422T144450Z
UID:10000781-1825336800-1825340400@willowbridge.ca
SUMMARY:Games Group
DESCRIPTION:A mix of Bingo\, Pictionary\, and Trivia. Open to current Willowbridge participants. \n  \nTo register\, please contact:\nAmanda Downs \n905-741-4723 \nadowns@willowbridge.ca
URL:https://willowbridge.ca/event/games-group/2027-11-04/
LOCATION:Willowbridge Community Services\, 54 Brant Avenue\, Brantford\, Ontario\, N3T 3G8\, Canada
CATEGORIES:Counselling Services Group,Developmental Services Group
ATTACH;FMTTYPE=image/png:https://willowbridge.ca/wp-content/uploads/2023/02/1.png
ORGANIZER;CN="Willowbridge Community Services":MAILTO:welcome@willowbridge.ca
END:VEVENT
BEGIN:VEVENT
DTSTART;TZID=America/Toronto:20271111T140000
DTEND;TZID=America/Toronto:20271111T150000
DTSTAMP:20260422T175134
CREATED:20230217T030713Z
LAST-MODIFIED:20260422T144450Z
UID:10000782-1825941600-1825945200@willowbridge.ca
SUMMARY:Games Group
DESCRIPTION:A mix of Bingo\, Pictionary\, and Trivia. Open to current Willowbridge participants. \n  \nTo register\, please contact:\nAmanda Downs \n905-741-4723 \nadowns@willowbridge.ca
URL:https://willowbridge.ca/event/games-group/2027-11-11/
LOCATION:Willowbridge Community Services\, 54 Brant Avenue\, Brantford\, Ontario\, N3T 3G8\, Canada
CATEGORIES:Counselling Services Group,Developmental Services Group
ATTACH;FMTTYPE=image/png:https://willowbridge.ca/wp-content/uploads/2023/02/1.png
ORGANIZER;CN="Willowbridge Community Services":MAILTO:welcome@willowbridge.ca
END:VEVENT
BEGIN:VEVENT
DTSTART;TZID=America/Toronto:20271118T140000
DTEND;TZID=America/Toronto:20271118T150000
DTSTAMP:20260422T175134
CREATED:20230217T030713Z
LAST-MODIFIED:20260422T144450Z
UID:10000783-1826546400-1826550000@willowbridge.ca
SUMMARY:Games Group
DESCRIPTION:A mix of Bingo\, Pictionary\, and Trivia. Open to current Willowbridge participants. \n  \nTo register\, please contact:\nAmanda Downs \n905-741-4723 \nadowns@willowbridge.ca
URL:https://willowbridge.ca/event/games-group/2027-11-18/
LOCATION:Willowbridge Community Services\, 54 Brant Avenue\, Brantford\, Ontario\, N3T 3G8\, Canada
CATEGORIES:Counselling Services Group,Developmental Services Group
ATTACH;FMTTYPE=image/png:https://willowbridge.ca/wp-content/uploads/2023/02/1.png
ORGANIZER;CN="Willowbridge Community Services":MAILTO:welcome@willowbridge.ca
END:VEVENT
BEGIN:VEVENT
DTSTART;TZID=America/Toronto:20271125T140000
DTEND;TZID=America/Toronto:20271125T150000
DTSTAMP:20260422T175134
CREATED:20230217T030713Z
LAST-MODIFIED:20260422T144450Z
UID:10000784-1827151200-1827154800@willowbridge.ca
SUMMARY:Games Group
DESCRIPTION:A mix of Bingo\, Pictionary\, and Trivia. Open to current Willowbridge participants. \n  \nTo register\, please contact:\nAmanda Downs \n905-741-4723 \nadowns@willowbridge.ca
URL:https://willowbridge.ca/event/games-group/2027-11-25/
LOCATION:Willowbridge Community Services\, 54 Brant Avenue\, Brantford\, Ontario\, N3T 3G8\, Canada
CATEGORIES:Counselling Services Group,Developmental Services Group
ATTACH;FMTTYPE=image/png:https://willowbridge.ca/wp-content/uploads/2023/02/1.png
ORGANIZER;CN="Willowbridge Community Services":MAILTO:welcome@willowbridge.ca
END:VEVENT
BEGIN:VEVENT
DTSTART;TZID=America/Toronto:20271202T140000
DTEND;TZID=America/Toronto:20271202T150000
DTSTAMP:20260422T175134
CREATED:20230217T030713Z
LAST-MODIFIED:20260422T144450Z
UID:10000785-1827756000-1827759600@willowbridge.ca
SUMMARY:Games Group
DESCRIPTION:A mix of Bingo\, Pictionary\, and Trivia. Open to current Willowbridge participants. \n  \nTo register\, please contact:\nAmanda Downs \n905-741-4723 \nadowns@willowbridge.ca
URL:https://willowbridge.ca/event/games-group/2027-12-02/
LOCATION:Willowbridge Community Services\, 54 Brant Avenue\, Brantford\, Ontario\, N3T 3G8\, Canada
CATEGORIES:Counselling Services Group,Developmental Services Group
ATTACH;FMTTYPE=image/png:https://willowbridge.ca/wp-content/uploads/2023/02/1.png
ORGANIZER;CN="Willowbridge Community Services":MAILTO:welcome@willowbridge.ca
END:VEVENT
BEGIN:VEVENT
DTSTART;TZID=America/Toronto:20271209T140000
DTEND;TZID=America/Toronto:20271209T150000
DTSTAMP:20260422T175134
CREATED:20230217T030713Z
LAST-MODIFIED:20260422T144450Z
UID:10000786-1828360800-1828364400@willowbridge.ca
SUMMARY:Games Group
DESCRIPTION:A mix of Bingo\, Pictionary\, and Trivia. Open to current Willowbridge participants. \n  \nTo register\, please contact:\nAmanda Downs \n905-741-4723 \nadowns@willowbridge.ca
URL:https://willowbridge.ca/event/games-group/2027-12-09/
LOCATION:Willowbridge Community Services\, 54 Brant Avenue\, Brantford\, Ontario\, N3T 3G8\, Canada
CATEGORIES:Counselling Services Group,Developmental Services Group
ATTACH;FMTTYPE=image/png:https://willowbridge.ca/wp-content/uploads/2023/02/1.png
ORGANIZER;CN="Willowbridge Community Services":MAILTO:welcome@willowbridge.ca
END:VEVENT
BEGIN:VEVENT
DTSTART;TZID=America/Toronto:20271216T140000
DTEND;TZID=America/Toronto:20271216T150000
DTSTAMP:20260422T175134
CREATED:20230217T030713Z
LAST-MODIFIED:20260422T144450Z
UID:10000787-1828965600-1828969200@willowbridge.ca
SUMMARY:Games Group
DESCRIPTION:A mix of Bingo\, Pictionary\, and Trivia. Open to current Willowbridge participants. \n  \nTo register\, please contact:\nAmanda Downs \n905-741-4723 \nadowns@willowbridge.ca
URL:https://willowbridge.ca/event/games-group/2027-12-16/
LOCATION:Willowbridge Community Services\, 54 Brant Avenue\, Brantford\, Ontario\, N3T 3G8\, Canada
CATEGORIES:Counselling Services Group,Developmental Services Group
ATTACH;FMTTYPE=image/png:https://willowbridge.ca/wp-content/uploads/2023/02/1.png
ORGANIZER;CN="Willowbridge Community Services":MAILTO:welcome@willowbridge.ca
END:VEVENT
BEGIN:VEVENT
DTSTART;TZID=America/Toronto:20271223T140000
DTEND;TZID=America/Toronto:20271223T150000
DTSTAMP:20260422T175134
CREATED:20230217T030713Z
LAST-MODIFIED:20260422T144450Z
UID:10000788-1829570400-1829574000@willowbridge.ca
SUMMARY:Games Group
DESCRIPTION:A mix of Bingo\, Pictionary\, and Trivia. Open to current Willowbridge participants. \n  \nTo register\, please contact:\nAmanda Downs \n905-741-4723 \nadowns@willowbridge.ca
URL:https://willowbridge.ca/event/games-group/2027-12-23/
LOCATION:Willowbridge Community Services\, 54 Brant Avenue\, Brantford\, Ontario\, N3T 3G8\, Canada
CATEGORIES:Counselling Services Group,Developmental Services Group
ATTACH;FMTTYPE=image/png:https://willowbridge.ca/wp-content/uploads/2023/02/1.png
ORGANIZER;CN="Willowbridge Community Services":MAILTO:welcome@willowbridge.ca
END:VEVENT
BEGIN:VEVENT
DTSTART;TZID=America/Toronto:20271230T140000
DTEND;TZID=America/Toronto:20271230T150000
DTSTAMP:20260422T175134
CREATED:20230217T030713Z
LAST-MODIFIED:20260422T144450Z
UID:10000789-1830175200-1830178800@willowbridge.ca
SUMMARY:Games Group
DESCRIPTION:A mix of Bingo\, Pictionary\, and Trivia. Open to current Willowbridge participants. \n  \nTo register\, please contact:\nAmanda Downs \n905-741-4723 \nadowns@willowbridge.ca
URL:https://willowbridge.ca/event/games-group/2027-12-30/
LOCATION:Willowbridge Community Services\, 54 Brant Avenue\, Brantford\, Ontario\, N3T 3G8\, Canada
CATEGORIES:Counselling Services Group,Developmental Services Group
ATTACH;FMTTYPE=image/png:https://willowbridge.ca/wp-content/uploads/2023/02/1.png
ORGANIZER;CN="Willowbridge Community Services":MAILTO:welcome@willowbridge.ca
END:VEVENT
BEGIN:VEVENT
DTSTART;TZID=America/Toronto:20280106T140000
DTEND;TZID=America/Toronto:20280106T150000
DTSTAMP:20260422T175134
CREATED:20230217T030713Z
LAST-MODIFIED:20260422T144450Z
UID:10000790-1830780000-1830783600@willowbridge.ca
SUMMARY:Games Group
DESCRIPTION:A mix of Bingo\, Pictionary\, and Trivia. Open to current Willowbridge participants. \n  \nTo register\, please contact:\nAmanda Downs \n905-741-4723 \nadowns@willowbridge.ca
URL:https://willowbridge.ca/event/games-group/2028-01-06/
LOCATION:Willowbridge Community Services\, 54 Brant Avenue\, Brantford\, Ontario\, N3T 3G8\, Canada
CATEGORIES:Counselling Services Group,Developmental Services Group
ATTACH;FMTTYPE=image/png:https://willowbridge.ca/wp-content/uploads/2023/02/1.png
ORGANIZER;CN="Willowbridge Community Services":MAILTO:welcome@willowbridge.ca
END:VEVENT
BEGIN:VEVENT
DTSTART;TZID=America/Toronto:20280113T140000
DTEND;TZID=America/Toronto:20280113T150000
DTSTAMP:20260422T175134
CREATED:20230217T030713Z
LAST-MODIFIED:20260422T144450Z
UID:10000791-1831384800-1831388400@willowbridge.ca
SUMMARY:Games Group
DESCRIPTION:A mix of Bingo\, Pictionary\, and Trivia. Open to current Willowbridge participants. \n  \nTo register\, please contact:\nAmanda Downs \n905-741-4723 \nadowns@willowbridge.ca
URL:https://willowbridge.ca/event/games-group/2028-01-13/
LOCATION:Willowbridge Community Services\, 54 Brant Avenue\, Brantford\, Ontario\, N3T 3G8\, Canada
CATEGORIES:Counselling Services Group,Developmental Services Group
ATTACH;FMTTYPE=image/png:https://willowbridge.ca/wp-content/uploads/2023/02/1.png
ORGANIZER;CN="Willowbridge Community Services":MAILTO:welcome@willowbridge.ca
END:VEVENT
BEGIN:VEVENT
DTSTART;TZID=America/Toronto:20280120T140000
DTEND;TZID=America/Toronto:20280120T150000
DTSTAMP:20260422T175134
CREATED:20230217T030713Z
LAST-MODIFIED:20260422T144450Z
UID:10000792-1831989600-1831993200@willowbridge.ca
SUMMARY:Games Group
DESCRIPTION:A mix of Bingo\, Pictionary\, and Trivia. Open to current Willowbridge participants. \n  \nTo register\, please contact:\nAmanda Downs \n905-741-4723 \nadowns@willowbridge.ca
URL:https://willowbridge.ca/event/games-group/2028-01-20/
LOCATION:Willowbridge Community Services\, 54 Brant Avenue\, Brantford\, Ontario\, N3T 3G8\, Canada
CATEGORIES:Counselling Services Group,Developmental Services Group
ATTACH;FMTTYPE=image/png:https://willowbridge.ca/wp-content/uploads/2023/02/1.png
ORGANIZER;CN="Willowbridge Community Services":MAILTO:welcome@willowbridge.ca
END:VEVENT
BEGIN:VEVENT
DTSTART;TZID=America/Toronto:20280127T140000
DTEND;TZID=America/Toronto:20280127T150000
DTSTAMP:20260422T175134
CREATED:20230217T030713Z
LAST-MODIFIED:20260422T144450Z
UID:10000793-1832594400-1832598000@willowbridge.ca
SUMMARY:Games Group
DESCRIPTION:A mix of Bingo\, Pictionary\, and Trivia. Open to current Willowbridge participants. \n  \nTo register\, please contact:\nAmanda Downs \n905-741-4723 \nadowns@willowbridge.ca
URL:https://willowbridge.ca/event/games-group/2028-01-27/
LOCATION:Willowbridge Community Services\, 54 Brant Avenue\, Brantford\, Ontario\, N3T 3G8\, Canada
CATEGORIES:Counselling Services Group,Developmental Services Group
ATTACH;FMTTYPE=image/png:https://willowbridge.ca/wp-content/uploads/2023/02/1.png
ORGANIZER;CN="Willowbridge Community Services":MAILTO:welcome@willowbridge.ca
END:VEVENT
BEGIN:VEVENT
DTSTART;TZID=America/Toronto:20280203T140000
DTEND;TZID=America/Toronto:20280203T150000
DTSTAMP:20260422T175134
CREATED:20230217T030713Z
LAST-MODIFIED:20260422T144450Z
UID:10000794-1833199200-1833202800@willowbridge.ca
SUMMARY:Games Group
DESCRIPTION:A mix of Bingo\, Pictionary\, and Trivia. Open to current Willowbridge participants. \n  \nTo register\, please contact:\nAmanda Downs \n905-741-4723 \nadowns@willowbridge.ca
URL:https://willowbridge.ca/event/games-group/2028-02-03/
LOCATION:Willowbridge Community Services\, 54 Brant Avenue\, Brantford\, Ontario\, N3T 3G8\, Canada
CATEGORIES:Counselling Services Group,Developmental Services Group
ATTACH;FMTTYPE=image/png:https://willowbridge.ca/wp-content/uploads/2023/02/1.png
ORGANIZER;CN="Willowbridge Community Services":MAILTO:welcome@willowbridge.ca
END:VEVENT
BEGIN:VEVENT
DTSTART;TZID=America/Toronto:20280210T140000
DTEND;TZID=America/Toronto:20280210T150000
DTSTAMP:20260422T175134
CREATED:20230217T030713Z
LAST-MODIFIED:20260422T144450Z
UID:10000795-1833804000-1833807600@willowbridge.ca
SUMMARY:Games Group
DESCRIPTION:A mix of Bingo\, Pictionary\, and Trivia. Open to current Willowbridge participants. \n  \nTo register\, please contact:\nAmanda Downs \n905-741-4723 \nadowns@willowbridge.ca
URL:https://willowbridge.ca/event/games-group/2028-02-10/
LOCATION:Willowbridge Community Services\, 54 Brant Avenue\, Brantford\, Ontario\, N3T 3G8\, Canada
CATEGORIES:Counselling Services Group,Developmental Services Group
ATTACH;FMTTYPE=image/png:https://willowbridge.ca/wp-content/uploads/2023/02/1.png
ORGANIZER;CN="Willowbridge Community Services":MAILTO:welcome@willowbridge.ca
END:VEVENT
BEGIN:VEVENT
DTSTART;TZID=America/Toronto:20280217T140000
DTEND;TZID=America/Toronto:20280217T150000
DTSTAMP:20260422T175134
CREATED:20230217T030713Z
LAST-MODIFIED:20260422T144450Z
UID:10000796-1834408800-1834412400@willowbridge.ca
SUMMARY:Games Group
DESCRIPTION:A mix of Bingo\, Pictionary\, and Trivia. Open to current Willowbridge participants. \n  \nTo register\, please contact:\nAmanda Downs \n905-741-4723 \nadowns@willowbridge.ca
URL:https://willowbridge.ca/event/games-group/2028-02-17/
LOCATION:Willowbridge Community Services\, 54 Brant Avenue\, Brantford\, Ontario\, N3T 3G8\, Canada
CATEGORIES:Counselling Services Group,Developmental Services Group
ATTACH;FMTTYPE=image/png:https://willowbridge.ca/wp-content/uploads/2023/02/1.png
ORGANIZER;CN="Willowbridge Community Services":MAILTO:welcome@willowbridge.ca
END:VEVENT
BEGIN:VEVENT
DTSTART;TZID=America/Toronto:20280224T140000
DTEND;TZID=America/Toronto:20280224T150000
DTSTAMP:20260422T175134
CREATED:20230217T030713Z
LAST-MODIFIED:20260422T144450Z
UID:10000797-1835013600-1835017200@willowbridge.ca
SUMMARY:Games Group
DESCRIPTION:A mix of Bingo\, Pictionary\, and Trivia. Open to current Willowbridge participants. \n  \nTo register\, please contact:\nAmanda Downs \n905-741-4723 \nadowns@willowbridge.ca
URL:https://willowbridge.ca/event/games-group/2028-02-24/
LOCATION:Willowbridge Community Services\, 54 Brant Avenue\, Brantford\, Ontario\, N3T 3G8\, Canada
CATEGORIES:Counselling Services Group,Developmental Services Group
ATTACH;FMTTYPE=image/png:https://willowbridge.ca/wp-content/uploads/2023/02/1.png
ORGANIZER;CN="Willowbridge Community Services":MAILTO:welcome@willowbridge.ca
END:VEVENT
BEGIN:VEVENT
DTSTART;TZID=America/Toronto:20280302T140000
DTEND;TZID=America/Toronto:20280302T150000
DTSTAMP:20260422T175134
CREATED:20230217T030713Z
LAST-MODIFIED:20260422T144450Z
UID:10000798-1835618400-1835622000@willowbridge.ca
SUMMARY:Games Group
DESCRIPTION:A mix of Bingo\, Pictionary\, and Trivia. Open to current Willowbridge participants. \n  \nTo register\, please contact:\nAmanda Downs \n905-741-4723 \nadowns@willowbridge.ca
URL:https://willowbridge.ca/event/games-group/2028-03-02/
LOCATION:Willowbridge Community Services\, 54 Brant Avenue\, Brantford\, Ontario\, N3T 3G8\, Canada
CATEGORIES:Counselling Services Group,Developmental Services Group
ATTACH;FMTTYPE=image/png:https://willowbridge.ca/wp-content/uploads/2023/02/1.png
ORGANIZER;CN="Willowbridge Community Services":MAILTO:welcome@willowbridge.ca
END:VEVENT
BEGIN:VEVENT
DTSTART;TZID=America/Toronto:20280309T140000
DTEND;TZID=America/Toronto:20280309T150000
DTSTAMP:20260422T175134
CREATED:20230217T030713Z
LAST-MODIFIED:20260422T144450Z
UID:10000799-1836223200-1836226800@willowbridge.ca
SUMMARY:Games Group
DESCRIPTION:A mix of Bingo\, Pictionary\, and Trivia. Open to current Willowbridge participants. \n  \nTo register\, please contact:\nAmanda Downs \n905-741-4723 \nadowns@willowbridge.ca
URL:https://willowbridge.ca/event/games-group/2028-03-09/
LOCATION:Willowbridge Community Services\, 54 Brant Avenue\, Brantford\, Ontario\, N3T 3G8\, Canada
CATEGORIES:Counselling Services Group,Developmental Services Group
ATTACH;FMTTYPE=image/png:https://willowbridge.ca/wp-content/uploads/2023/02/1.png
ORGANIZER;CN="Willowbridge Community Services":MAILTO:welcome@willowbridge.ca
END:VEVENT
BEGIN:VEVENT
DTSTART;TZID=America/Toronto:20280316T140000
DTEND;TZID=America/Toronto:20280316T150000
DTSTAMP:20260422T175134
CREATED:20230217T030713Z
LAST-MODIFIED:20260422T144450Z
UID:10000800-1836828000-1836831600@willowbridge.ca
SUMMARY:Games Group
DESCRIPTION:A mix of Bingo\, Pictionary\, and Trivia. Open to current Willowbridge participants. \n  \nTo register\, please contact:\nAmanda Downs \n905-741-4723 \nadowns@willowbridge.ca
URL:https://willowbridge.ca/event/games-group/2028-03-16/
LOCATION:Willowbridge Community Services\, 54 Brant Avenue\, Brantford\, Ontario\, N3T 3G8\, Canada
CATEGORIES:Counselling Services Group,Developmental Services Group
ATTACH;FMTTYPE=image/png:https://willowbridge.ca/wp-content/uploads/2023/02/1.png
ORGANIZER;CN="Willowbridge Community Services":MAILTO:welcome@willowbridge.ca
END:VEVENT
END:VCALENDAR