BEGIN:VCALENDAR
VERSION:2.0
PRODID:-//Willowbridge - ECPv6.15.20//NONSGML v1.0//EN
CALSCALE:GREGORIAN
METHOD:PUBLISH
X-WR-CALNAME:Willowbridge
X-ORIGINAL-URL:https://willowbridge.ca
X-WR-CALDESC:Events for Willowbridge
REFRESH-INTERVAL;VALUE=DURATION:PT1H
X-Robots-Tag:noindex
X-PUBLISHED-TTL:PT1H
BEGIN:VTIMEZONE
TZID:America/Toronto
BEGIN:DAYLIGHT
TZOFFSETFROM:-0500
TZOFFSETTO:-0400
TZNAME:EDT
DTSTART:20240310T070000
END:DAYLIGHT
BEGIN:STANDARD
TZOFFSETFROM:-0400
TZOFFSETTO:-0500
TZNAME:EST
DTSTART:20241103T060000
END:STANDARD
BEGIN:DAYLIGHT
TZOFFSETFROM:-0500
TZOFFSETTO:-0400
TZNAME:EDT
DTSTART:20250309T070000
END:DAYLIGHT
BEGIN:STANDARD
TZOFFSETFROM:-0400
TZOFFSETTO:-0500
TZNAME:EST
DTSTART:20251102T060000
END:STANDARD
BEGIN:DAYLIGHT
TZOFFSETFROM:-0500
TZOFFSETTO:-0400
TZNAME:EDT
DTSTART:20260308T070000
END:DAYLIGHT
BEGIN:STANDARD
TZOFFSETFROM:-0400
TZOFFSETTO:-0500
TZNAME:EST
DTSTART:20261101T060000
END:STANDARD
END:VTIMEZONE
BEGIN:VEVENT
DTSTART;TZID=America/Toronto:20251217T090000
DTEND;TZID=America/Toronto:20251217T150000
DTSTAMP:20260421T184451
CREATED:20251030T165320Z
LAST-MODIFIED:20251030T171752Z
UID:10001469-1765962000-1765983600@willowbridge.ca
SUMMARY:Men's Counselling Link - Walk-In Sessions
DESCRIPTION:Free\, specialized walk-in single counselling sessions for men at risk of\, or who’ve engaged in challenging behaviours. Walk-in sessions are free\, 1.5 hours long and designed to be impactful\, helping you work toward building healthier relationships with yourself and others. \nDates: \n\nWednesday\, November 26 from 1 p.m. to 3 p.m.\nWednesday\, December 17 from 9 a.m. to 3 p.m.\n\nAge Range: 16 years and older\nLocation: 54 Brant Ave.\, Brantford\nCost: Free!\nRegistration: No registration required. Just walk in! Appointments will be offered on a first come\, first served basis.
URL:https://willowbridge.ca/event/mens-counselling-link-walk-in-sessions/2025-12-17/
LOCATION:Willowbridge Community Services\, 54 Brant Avenue\, Brantford\, Ontario\, N3T 3G8\, Canada
CATEGORIES:Counselling Services,Developmental Services,General Public,Willowbridge Event
ATTACH;FMTTYPE=image/png:https://willowbridge.ca/wp-content/uploads/2025/10/4-3.png
END:VEVENT
END:VCALENDAR