BEGIN:VCALENDAR
VERSION:2.0
PRODID:-//Willowbridge - ECPv6.15.20//NONSGML v1.0//EN
CALSCALE:GREGORIAN
METHOD:PUBLISH
X-ORIGINAL-URL:https://willowbridge.ca
X-WR-CALDESC:Events for Willowbridge
REFRESH-INTERVAL;VALUE=DURATION:PT1H
X-Robots-Tag:noindex
X-PUBLISHED-TTL:PT1H
BEGIN:VTIMEZONE
TZID:America/Toronto
BEGIN:DAYLIGHT
TZOFFSETFROM:-0500
TZOFFSETTO:-0400
TZNAME:EDT
DTSTART:20250309T070000
END:DAYLIGHT
BEGIN:STANDARD
TZOFFSETFROM:-0400
TZOFFSETTO:-0500
TZNAME:EST
DTSTART:20251102T060000
END:STANDARD
BEGIN:DAYLIGHT
TZOFFSETFROM:-0500
TZOFFSETTO:-0400
TZNAME:EDT
DTSTART:20260308T070000
END:DAYLIGHT
BEGIN:STANDARD
TZOFFSETFROM:-0400
TZOFFSETTO:-0500
TZNAME:EST
DTSTART:20261101T060000
END:STANDARD
BEGIN:DAYLIGHT
TZOFFSETFROM:-0500
TZOFFSETTO:-0400
TZNAME:EDT
DTSTART:20270314T070000
END:DAYLIGHT
BEGIN:STANDARD
TZOFFSETFROM:-0400
TZOFFSETTO:-0500
TZNAME:EST
DTSTART:20271107T060000
END:STANDARD
END:VTIMEZONE
BEGIN:VEVENT
DTSTART;TZID=America/Toronto:20260218T133000
DTEND;TZID=America/Toronto:20260218T153000
DTSTAMP:20260423T031120
CREATED:20251030T164559Z
LAST-MODIFIED:20251030T171719Z
UID:10001464-1771421400-1771428600@willowbridge.ca
SUMMARY:HER - Your Power Your Safety
DESCRIPTION:You deserve respect\, safety and great relationships! Join HER — a free\, virtual 8-week group for women (including trans and non-binary folk) aged 21+ with developmental disabilities who’ve been hurt\, treated badly or made to feel unsafe in their relationships. \nIn our group\, we’ll talk about: \n\nMaking friends\, exploring romance and trusting others\nSetting boundaries and saying no\nWhat safe and healthy relationships look like\n\nDate: Wednesdays from January 21 to March 11Time: 1:30 p.m. to 3:30 p.m.Location: This program will be delivered virtually using Zoom.\nCost: Free!\nRegistration*: To register\, contact Elisha at 519.753.4173\, ext. 298 or emacwhirter@willowbridge.ca
URL:https://willowbridge.ca/event/her-your-power-your-safety/2026-02-18/
LOCATION:Virtual Meeting
CATEGORIES:Community Group,Developmental Services Group
ATTACH;FMTTYPE=image/png:https://willowbridge.ca/wp-content/uploads/2025/10/1-1.png
ORGANIZER;CN="Willowbridge Community Services":MAILTO:welcome@willowbridge.ca
END:VEVENT
BEGIN:VEVENT
DTSTART;TZID=America/Toronto:20260219T110000
DTEND;TZID=America/Toronto:20260219T120000
DTSTAMP:20260423T031120
CREATED:20251127T190840Z
LAST-MODIFIED:20260422T143440Z
UID:10001497-1771498800-1771502400@willowbridge.ca
SUMMARY:Move & Mingle
DESCRIPTION:Looking for a fun\, inclusive community? Move & Mingle is here for adults 18+ with developmental disabilities! We gather every two weeks to enjoy walks\, games\, and a chance to connect socially in a supportive environment. \nDate: Every other Thursday starting January 8\nTime: 11 a.m. – 12 p.m.\nLocation: Williams Cafe\, 47 Discovery Dr\, Hamilton\, ON\nRegistration: To register\, fill out our registration form. \nFor questions\, reach out to Sarah at smcvey@willowbridge.ca or 289-659-1568.
URL:https://willowbridge.ca/event/move-mingle-3/2026-02-19/
LOCATION:Williams Cafe\, 47 Discovery Drive\, Hamilton\, ontario\, L8L 8K4\, Canada
CATEGORIES:Developmental Services Group
ATTACH;FMTTYPE=image/png:https://willowbridge.ca/wp-content/uploads/2024/11/Website-Event-Banners-12.png
ORGANIZER;CN="Willowbridge Community Services":MAILTO:welcome@willowbridge.ca
END:VEVENT
BEGIN:VEVENT
DTSTART;TZID=America/Toronto:20260219T140000
DTEND;TZID=America/Toronto:20260219T150000
DTSTAMP:20260423T031120
CREATED:20230217T030713Z
LAST-MODIFIED:20260422T144450Z
UID:10000692-1771509600-1771513200@willowbridge.ca
SUMMARY:Games Group
DESCRIPTION:A mix of Bingo\, Pictionary\, and Trivia. Open to current Willowbridge participants. \n  \nTo register\, please contact:\nAmanda Downs \n905-741-4723 \nadowns@willowbridge.ca
URL:https://willowbridge.ca/event/games-group/2026-02-19/
LOCATION:Willowbridge Community Services\, 54 Brant Avenue\, Brantford\, Ontario\, N3T 3G8\, Canada
CATEGORIES:Counselling Services Group,Developmental Services Group
ATTACH;FMTTYPE=image/png:https://willowbridge.ca/wp-content/uploads/2023/02/1.png
ORGANIZER;CN="Willowbridge Community Services":MAILTO:welcome@willowbridge.ca
END:VEVENT
END:VCALENDAR