BEGIN:VCALENDAR
VERSION:2.0
PRODID:-//Willowbridge - ECPv6.15.20//NONSGML v1.0//EN
CALSCALE:GREGORIAN
METHOD:PUBLISH
X-ORIGINAL-URL:https://willowbridge.ca
X-WR-CALDESC:Events for Willowbridge
REFRESH-INTERVAL;VALUE=DURATION:PT1H
X-Robots-Tag:noindex
X-PUBLISHED-TTL:PT1H
BEGIN:VTIMEZONE
TZID:America/Toronto
BEGIN:DAYLIGHT
TZOFFSETFROM:-0500
TZOFFSETTO:-0400
TZNAME:EDT
DTSTART:20280312T070000
END:DAYLIGHT
BEGIN:STANDARD
TZOFFSETFROM:-0400
TZOFFSETTO:-0500
TZNAME:EST
DTSTART:20281105T060000
END:STANDARD
BEGIN:DAYLIGHT
TZOFFSETFROM:-0500
TZOFFSETTO:-0400
TZNAME:EDT
DTSTART:20290311T070000
END:DAYLIGHT
BEGIN:STANDARD
TZOFFSETFROM:-0400
TZOFFSETTO:-0500
TZNAME:EST
DTSTART:20291104T060000
END:STANDARD
BEGIN:DAYLIGHT
TZOFFSETFROM:-0500
TZOFFSETTO:-0400
TZNAME:EDT
DTSTART:20300310T070000
END:DAYLIGHT
BEGIN:STANDARD
TZOFFSETFROM:-0400
TZOFFSETTO:-0500
TZNAME:EST
DTSTART:20301103T060000
END:STANDARD
BEGIN:DAYLIGHT
TZOFFSETFROM:-0500
TZOFFSETTO:-0400
TZNAME:EDT
DTSTART:20310309T070000
END:DAYLIGHT
BEGIN:STANDARD
TZOFFSETFROM:-0400
TZOFFSETTO:-0500
TZNAME:EST
DTSTART:20311102T060000
END:STANDARD
END:VTIMEZONE
BEGIN:VEVENT
DTSTART;TZID=America/Toronto:20291227T140000
DTEND;TZID=America/Toronto:20291227T150000
DTSTAMP:20260422T201408
CREATED:20230217T030713Z
LAST-MODIFIED:20260422T144450Z
UID:10002068-1893074400-1893078000@willowbridge.ca
SUMMARY:Games Group
DESCRIPTION:A mix of Bingo\, Pictionary\, and Trivia. Open to current Willowbridge participants. \n  \nTo register\, please contact:\nAmanda Downs \n905-741-4723 \nadowns@willowbridge.ca
URL:https://willowbridge.ca/event/games-group/2029-12-27/
LOCATION:Willowbridge Community Services\, 54 Brant Avenue\, Brantford\, Ontario\, N3T 3G8\, Canada
CATEGORIES:Counselling Services Group,Developmental Services Group
ATTACH;FMTTYPE=image/png:https://willowbridge.ca/wp-content/uploads/2023/02/1.png
ORGANIZER;CN="Willowbridge Community Services":MAILTO:welcome@willowbridge.ca
END:VEVENT
BEGIN:VEVENT
DTSTART;TZID=America/Toronto:20300103T140000
DTEND;TZID=America/Toronto:20300103T150000
DTSTAMP:20260422T201408
CREATED:20230217T030713Z
LAST-MODIFIED:20260422T144450Z
UID:10002069-1893679200-1893682800@willowbridge.ca
SUMMARY:Games Group
DESCRIPTION:A mix of Bingo\, Pictionary\, and Trivia. Open to current Willowbridge participants. \n  \nTo register\, please contact:\nAmanda Downs \n905-741-4723 \nadowns@willowbridge.ca
URL:https://willowbridge.ca/event/games-group/2030-01-03/
LOCATION:Willowbridge Community Services\, 54 Brant Avenue\, Brantford\, Ontario\, N3T 3G8\, Canada
CATEGORIES:Counselling Services Group,Developmental Services Group
ATTACH;FMTTYPE=image/png:https://willowbridge.ca/wp-content/uploads/2023/02/1.png
ORGANIZER;CN="Willowbridge Community Services":MAILTO:welcome@willowbridge.ca
END:VEVENT
BEGIN:VEVENT
DTSTART;TZID=America/Toronto:20300110T140000
DTEND;TZID=America/Toronto:20300110T150000
DTSTAMP:20260422T201408
CREATED:20230217T030713Z
LAST-MODIFIED:20260422T144450Z
UID:10002070-1894284000-1894287600@willowbridge.ca
SUMMARY:Games Group
DESCRIPTION:A mix of Bingo\, Pictionary\, and Trivia. Open to current Willowbridge participants. \n  \nTo register\, please contact:\nAmanda Downs \n905-741-4723 \nadowns@willowbridge.ca
URL:https://willowbridge.ca/event/games-group/2030-01-10/
LOCATION:Willowbridge Community Services\, 54 Brant Avenue\, Brantford\, Ontario\, N3T 3G8\, Canada
CATEGORIES:Counselling Services Group,Developmental Services Group
ATTACH;FMTTYPE=image/png:https://willowbridge.ca/wp-content/uploads/2023/02/1.png
ORGANIZER;CN="Willowbridge Community Services":MAILTO:welcome@willowbridge.ca
END:VEVENT
BEGIN:VEVENT
DTSTART;TZID=America/Toronto:20300117T140000
DTEND;TZID=America/Toronto:20300117T150000
DTSTAMP:20260422T201408
CREATED:20230217T030713Z
LAST-MODIFIED:20260422T144450Z
UID:10002071-1894888800-1894892400@willowbridge.ca
SUMMARY:Games Group
DESCRIPTION:A mix of Bingo\, Pictionary\, and Trivia. Open to current Willowbridge participants. \n  \nTo register\, please contact:\nAmanda Downs \n905-741-4723 \nadowns@willowbridge.ca
URL:https://willowbridge.ca/event/games-group/2030-01-17/
LOCATION:Willowbridge Community Services\, 54 Brant Avenue\, Brantford\, Ontario\, N3T 3G8\, Canada
CATEGORIES:Counselling Services Group,Developmental Services Group
ATTACH;FMTTYPE=image/png:https://willowbridge.ca/wp-content/uploads/2023/02/1.png
ORGANIZER;CN="Willowbridge Community Services":MAILTO:welcome@willowbridge.ca
END:VEVENT
BEGIN:VEVENT
DTSTART;TZID=America/Toronto:20300124T140000
DTEND;TZID=America/Toronto:20300124T150000
DTSTAMP:20260422T201408
CREATED:20230217T030713Z
LAST-MODIFIED:20260422T144450Z
UID:10002072-1895493600-1895497200@willowbridge.ca
SUMMARY:Games Group
DESCRIPTION:A mix of Bingo\, Pictionary\, and Trivia. Open to current Willowbridge participants. \n  \nTo register\, please contact:\nAmanda Downs \n905-741-4723 \nadowns@willowbridge.ca
URL:https://willowbridge.ca/event/games-group/2030-01-24/
LOCATION:Willowbridge Community Services\, 54 Brant Avenue\, Brantford\, Ontario\, N3T 3G8\, Canada
CATEGORIES:Counselling Services Group,Developmental Services Group
ATTACH;FMTTYPE=image/png:https://willowbridge.ca/wp-content/uploads/2023/02/1.png
ORGANIZER;CN="Willowbridge Community Services":MAILTO:welcome@willowbridge.ca
END:VEVENT
BEGIN:VEVENT
DTSTART;TZID=America/Toronto:20300129T123000
DTEND;TZID=America/Toronto:20300129T150000
DTSTAMP:20260422T201408
CREATED:20260202T135135Z
LAST-MODIFIED:20260422T143552Z
UID:10001952-1895920200-1895929200@willowbridge.ca
SUMMARY:Men's Counselling Link - Walk-In Session
DESCRIPTION:Free\, specialized walk-in single counselling sessions for men at risk of\, or who’ve engaged in challenging behaviours. Walk-in sessions are free\, 1.5 hours long and designed to be impactful\, helping you work toward building healthier relationships with yourself and others. \nAge Range: 16 years and older\nLocation: 54 Brant Ave.\, Brantford\nCost: Free!\nRegistration: No registration required. Just walk in! Appointments will be offered on a first come\, first served basis.
URL:https://willowbridge.ca/event/mens-counselling-link-walk-in-session-2/2030-01-29/
LOCATION:Willowbridge Community Services\, 54 Brant Avenue\, Brantford\, Ontario\, N3T 3G8\, Canada
CATEGORIES:Community Group
ATTACH;FMTTYPE=image/png:https://willowbridge.ca/wp-content/uploads/2025/10/4-3.png
END:VEVENT
BEGIN:VEVENT
DTSTART;TZID=America/Toronto:20300131T140000
DTEND;TZID=America/Toronto:20300131T150000
DTSTAMP:20260422T201408
CREATED:20230217T030713Z
LAST-MODIFIED:20260422T144450Z
UID:10002073-1896098400-1896102000@willowbridge.ca
SUMMARY:Games Group
DESCRIPTION:A mix of Bingo\, Pictionary\, and Trivia. Open to current Willowbridge participants. \n  \nTo register\, please contact:\nAmanda Downs \n905-741-4723 \nadowns@willowbridge.ca
URL:https://willowbridge.ca/event/games-group/2030-01-31/
LOCATION:Willowbridge Community Services\, 54 Brant Avenue\, Brantford\, Ontario\, N3T 3G8\, Canada
CATEGORIES:Counselling Services Group,Developmental Services Group
ATTACH;FMTTYPE=image/png:https://willowbridge.ca/wp-content/uploads/2023/02/1.png
ORGANIZER;CN="Willowbridge Community Services":MAILTO:welcome@willowbridge.ca
END:VEVENT
BEGIN:VEVENT
DTSTART;TZID=America/Toronto:20300207T140000
DTEND;TZID=America/Toronto:20300207T150000
DTSTAMP:20260422T201408
CREATED:20230217T030713Z
LAST-MODIFIED:20260422T144450Z
UID:10002074-1896703200-1896706800@willowbridge.ca
SUMMARY:Games Group
DESCRIPTION:A mix of Bingo\, Pictionary\, and Trivia. Open to current Willowbridge participants. \n  \nTo register\, please contact:\nAmanda Downs \n905-741-4723 \nadowns@willowbridge.ca
URL:https://willowbridge.ca/event/games-group/2030-02-07/
LOCATION:Willowbridge Community Services\, 54 Brant Avenue\, Brantford\, Ontario\, N3T 3G8\, Canada
CATEGORIES:Counselling Services Group,Developmental Services Group
ATTACH;FMTTYPE=image/png:https://willowbridge.ca/wp-content/uploads/2023/02/1.png
ORGANIZER;CN="Willowbridge Community Services":MAILTO:welcome@willowbridge.ca
END:VEVENT
BEGIN:VEVENT
DTSTART;TZID=America/Toronto:20300214T140000
DTEND;TZID=America/Toronto:20300214T150000
DTSTAMP:20260422T201408
CREATED:20230217T030713Z
LAST-MODIFIED:20260422T144450Z
UID:10002075-1897308000-1897311600@willowbridge.ca
SUMMARY:Games Group
DESCRIPTION:A mix of Bingo\, Pictionary\, and Trivia. Open to current Willowbridge participants. \n  \nTo register\, please contact:\nAmanda Downs \n905-741-4723 \nadowns@willowbridge.ca
URL:https://willowbridge.ca/event/games-group/2030-02-14/
LOCATION:Willowbridge Community Services\, 54 Brant Avenue\, Brantford\, Ontario\, N3T 3G8\, Canada
CATEGORIES:Counselling Services Group,Developmental Services Group
ATTACH;FMTTYPE=image/png:https://willowbridge.ca/wp-content/uploads/2023/02/1.png
ORGANIZER;CN="Willowbridge Community Services":MAILTO:welcome@willowbridge.ca
END:VEVENT
BEGIN:VEVENT
DTSTART;TZID=America/Toronto:20300221T140000
DTEND;TZID=America/Toronto:20300221T150000
DTSTAMP:20260422T201408
CREATED:20230217T030713Z
LAST-MODIFIED:20260422T144450Z
UID:10002076-1897912800-1897916400@willowbridge.ca
SUMMARY:Games Group
DESCRIPTION:A mix of Bingo\, Pictionary\, and Trivia. Open to current Willowbridge participants. \n  \nTo register\, please contact:\nAmanda Downs \n905-741-4723 \nadowns@willowbridge.ca
URL:https://willowbridge.ca/event/games-group/2030-02-21/
LOCATION:Willowbridge Community Services\, 54 Brant Avenue\, Brantford\, Ontario\, N3T 3G8\, Canada
CATEGORIES:Counselling Services Group,Developmental Services Group
ATTACH;FMTTYPE=image/png:https://willowbridge.ca/wp-content/uploads/2023/02/1.png
ORGANIZER;CN="Willowbridge Community Services":MAILTO:welcome@willowbridge.ca
END:VEVENT
BEGIN:VEVENT
DTSTART;TZID=America/Toronto:20300226T123000
DTEND;TZID=America/Toronto:20300226T150000
DTSTAMP:20260422T201408
CREATED:20260202T135135Z
LAST-MODIFIED:20260422T143552Z
UID:10001953-1898339400-1898348400@willowbridge.ca
SUMMARY:Men's Counselling Link - Walk-In Session
DESCRIPTION:Free\, specialized walk-in single counselling sessions for men at risk of\, or who’ve engaged in challenging behaviours. Walk-in sessions are free\, 1.5 hours long and designed to be impactful\, helping you work toward building healthier relationships with yourself and others. \nAge Range: 16 years and older\nLocation: 54 Brant Ave.\, Brantford\nCost: Free!\nRegistration: No registration required. Just walk in! Appointments will be offered on a first come\, first served basis.
URL:https://willowbridge.ca/event/mens-counselling-link-walk-in-session-2/2030-02-26/
LOCATION:Willowbridge Community Services\, 54 Brant Avenue\, Brantford\, Ontario\, N3T 3G8\, Canada
CATEGORIES:Community Group
ATTACH;FMTTYPE=image/png:https://willowbridge.ca/wp-content/uploads/2025/10/4-3.png
END:VEVENT
BEGIN:VEVENT
DTSTART;TZID=America/Toronto:20300228T140000
DTEND;TZID=America/Toronto:20300228T150000
DTSTAMP:20260422T201408
CREATED:20230217T030713Z
LAST-MODIFIED:20260422T144450Z
UID:10002077-1898517600-1898521200@willowbridge.ca
SUMMARY:Games Group
DESCRIPTION:A mix of Bingo\, Pictionary\, and Trivia. Open to current Willowbridge participants. \n  \nTo register\, please contact:\nAmanda Downs \n905-741-4723 \nadowns@willowbridge.ca
URL:https://willowbridge.ca/event/games-group/2030-02-28/
LOCATION:Willowbridge Community Services\, 54 Brant Avenue\, Brantford\, Ontario\, N3T 3G8\, Canada
CATEGORIES:Counselling Services Group,Developmental Services Group
ATTACH;FMTTYPE=image/png:https://willowbridge.ca/wp-content/uploads/2023/02/1.png
ORGANIZER;CN="Willowbridge Community Services":MAILTO:welcome@willowbridge.ca
END:VEVENT
BEGIN:VEVENT
DTSTART;TZID=America/Toronto:20300307T140000
DTEND;TZID=America/Toronto:20300307T150000
DTSTAMP:20260422T201408
CREATED:20230217T030713Z
LAST-MODIFIED:20260422T144450Z
UID:10002078-1899122400-1899126000@willowbridge.ca
SUMMARY:Games Group
DESCRIPTION:A mix of Bingo\, Pictionary\, and Trivia. Open to current Willowbridge participants. \n  \nTo register\, please contact:\nAmanda Downs \n905-741-4723 \nadowns@willowbridge.ca
URL:https://willowbridge.ca/event/games-group/2030-03-07/
LOCATION:Willowbridge Community Services\, 54 Brant Avenue\, Brantford\, Ontario\, N3T 3G8\, Canada
CATEGORIES:Counselling Services Group,Developmental Services Group
ATTACH;FMTTYPE=image/png:https://willowbridge.ca/wp-content/uploads/2023/02/1.png
ORGANIZER;CN="Willowbridge Community Services":MAILTO:welcome@willowbridge.ca
END:VEVENT
BEGIN:VEVENT
DTSTART;TZID=America/Toronto:20300314T140000
DTEND;TZID=America/Toronto:20300314T150000
DTSTAMP:20260422T201408
CREATED:20230217T030713Z
LAST-MODIFIED:20260422T144450Z
UID:10002079-1899727200-1899730800@willowbridge.ca
SUMMARY:Games Group
DESCRIPTION:A mix of Bingo\, Pictionary\, and Trivia. Open to current Willowbridge participants. \n  \nTo register\, please contact:\nAmanda Downs \n905-741-4723 \nadowns@willowbridge.ca
URL:https://willowbridge.ca/event/games-group/2030-03-14/
LOCATION:Willowbridge Community Services\, 54 Brant Avenue\, Brantford\, Ontario\, N3T 3G8\, Canada
CATEGORIES:Counselling Services Group,Developmental Services Group
ATTACH;FMTTYPE=image/png:https://willowbridge.ca/wp-content/uploads/2023/02/1.png
ORGANIZER;CN="Willowbridge Community Services":MAILTO:welcome@willowbridge.ca
END:VEVENT
BEGIN:VEVENT
DTSTART;TZID=America/Toronto:20300321T140000
DTEND;TZID=America/Toronto:20300321T150000
DTSTAMP:20260422T201408
CREATED:20230217T030713Z
LAST-MODIFIED:20260422T144450Z
UID:10002080-1900332000-1900335600@willowbridge.ca
SUMMARY:Games Group
DESCRIPTION:A mix of Bingo\, Pictionary\, and Trivia. Open to current Willowbridge participants. \n  \nTo register\, please contact:\nAmanda Downs \n905-741-4723 \nadowns@willowbridge.ca
URL:https://willowbridge.ca/event/games-group/2030-03-21/
LOCATION:Willowbridge Community Services\, 54 Brant Avenue\, Brantford\, Ontario\, N3T 3G8\, Canada
CATEGORIES:Counselling Services Group,Developmental Services Group
ATTACH;FMTTYPE=image/png:https://willowbridge.ca/wp-content/uploads/2023/02/1.png
ORGANIZER;CN="Willowbridge Community Services":MAILTO:welcome@willowbridge.ca
END:VEVENT
BEGIN:VEVENT
DTSTART;TZID=America/Toronto:20300326T123000
DTEND;TZID=America/Toronto:20300326T150000
DTSTAMP:20260422T201408
CREATED:20260202T135135Z
LAST-MODIFIED:20260422T143552Z
UID:10001954-1900758600-1900767600@willowbridge.ca
SUMMARY:Men's Counselling Link - Walk-In Session
DESCRIPTION:Free\, specialized walk-in single counselling sessions for men at risk of\, or who’ve engaged in challenging behaviours. Walk-in sessions are free\, 1.5 hours long and designed to be impactful\, helping you work toward building healthier relationships with yourself and others. \nAge Range: 16 years and older\nLocation: 54 Brant Ave.\, Brantford\nCost: Free!\nRegistration: No registration required. Just walk in! Appointments will be offered on a first come\, first served basis.
URL:https://willowbridge.ca/event/mens-counselling-link-walk-in-session-2/2030-03-26/
LOCATION:Willowbridge Community Services\, 54 Brant Avenue\, Brantford\, Ontario\, N3T 3G8\, Canada
CATEGORIES:Community Group
ATTACH;FMTTYPE=image/png:https://willowbridge.ca/wp-content/uploads/2025/10/4-3.png
END:VEVENT
BEGIN:VEVENT
DTSTART;TZID=America/Toronto:20300328T140000
DTEND;TZID=America/Toronto:20300328T150000
DTSTAMP:20260422T201408
CREATED:20230217T030713Z
LAST-MODIFIED:20260422T144450Z
UID:10002081-1900936800-1900940400@willowbridge.ca
SUMMARY:Games Group
DESCRIPTION:A mix of Bingo\, Pictionary\, and Trivia. Open to current Willowbridge participants. \n  \nTo register\, please contact:\nAmanda Downs \n905-741-4723 \nadowns@willowbridge.ca
URL:https://willowbridge.ca/event/games-group/2030-03-28/
LOCATION:Willowbridge Community Services\, 54 Brant Avenue\, Brantford\, Ontario\, N3T 3G8\, Canada
CATEGORIES:Counselling Services Group,Developmental Services Group
ATTACH;FMTTYPE=image/png:https://willowbridge.ca/wp-content/uploads/2023/02/1.png
ORGANIZER;CN="Willowbridge Community Services":MAILTO:welcome@willowbridge.ca
END:VEVENT
BEGIN:VEVENT
DTSTART;TZID=America/Toronto:20300404T140000
DTEND;TZID=America/Toronto:20300404T150000
DTSTAMP:20260422T201408
CREATED:20230217T030713Z
LAST-MODIFIED:20260422T144450Z
UID:10002082-1901541600-1901545200@willowbridge.ca
SUMMARY:Games Group
DESCRIPTION:A mix of Bingo\, Pictionary\, and Trivia. Open to current Willowbridge participants. \n  \nTo register\, please contact:\nAmanda Downs \n905-741-4723 \nadowns@willowbridge.ca
URL:https://willowbridge.ca/event/games-group/2030-04-04/
LOCATION:Willowbridge Community Services\, 54 Brant Avenue\, Brantford\, Ontario\, N3T 3G8\, Canada
CATEGORIES:Counselling Services Group,Developmental Services Group
ATTACH;FMTTYPE=image/png:https://willowbridge.ca/wp-content/uploads/2023/02/1.png
ORGANIZER;CN="Willowbridge Community Services":MAILTO:welcome@willowbridge.ca
END:VEVENT
BEGIN:VEVENT
DTSTART;TZID=America/Toronto:20300411T140000
DTEND;TZID=America/Toronto:20300411T150000
DTSTAMP:20260422T201408
CREATED:20230217T030713Z
LAST-MODIFIED:20260422T144450Z
UID:10002083-1902146400-1902150000@willowbridge.ca
SUMMARY:Games Group
DESCRIPTION:A mix of Bingo\, Pictionary\, and Trivia. Open to current Willowbridge participants. \n  \nTo register\, please contact:\nAmanda Downs \n905-741-4723 \nadowns@willowbridge.ca
URL:https://willowbridge.ca/event/games-group/2030-04-11/
LOCATION:Willowbridge Community Services\, 54 Brant Avenue\, Brantford\, Ontario\, N3T 3G8\, Canada
CATEGORIES:Counselling Services Group,Developmental Services Group
ATTACH;FMTTYPE=image/png:https://willowbridge.ca/wp-content/uploads/2023/02/1.png
ORGANIZER;CN="Willowbridge Community Services":MAILTO:welcome@willowbridge.ca
END:VEVENT
BEGIN:VEVENT
DTSTART;TZID=America/Toronto:20300418T140000
DTEND;TZID=America/Toronto:20300418T150000
DTSTAMP:20260422T201408
CREATED:20230217T030713Z
LAST-MODIFIED:20260422T144450Z
UID:10002084-1902751200-1902754800@willowbridge.ca
SUMMARY:Games Group
DESCRIPTION:A mix of Bingo\, Pictionary\, and Trivia. Open to current Willowbridge participants. \n  \nTo register\, please contact:\nAmanda Downs \n905-741-4723 \nadowns@willowbridge.ca
URL:https://willowbridge.ca/event/games-group/2030-04-18/
LOCATION:Willowbridge Community Services\, 54 Brant Avenue\, Brantford\, Ontario\, N3T 3G8\, Canada
CATEGORIES:Counselling Services Group,Developmental Services Group
ATTACH;FMTTYPE=image/png:https://willowbridge.ca/wp-content/uploads/2023/02/1.png
ORGANIZER;CN="Willowbridge Community Services":MAILTO:welcome@willowbridge.ca
END:VEVENT
BEGIN:VEVENT
DTSTART;TZID=America/Toronto:20300425T140000
DTEND;TZID=America/Toronto:20300425T150000
DTSTAMP:20260422T201408
CREATED:20230217T030713Z
LAST-MODIFIED:20260422T144450Z
UID:10002085-1903356000-1903359600@willowbridge.ca
SUMMARY:Games Group
DESCRIPTION:A mix of Bingo\, Pictionary\, and Trivia. Open to current Willowbridge participants. \n  \nTo register\, please contact:\nAmanda Downs \n905-741-4723 \nadowns@willowbridge.ca
URL:https://willowbridge.ca/event/games-group/2030-04-25/
LOCATION:Willowbridge Community Services\, 54 Brant Avenue\, Brantford\, Ontario\, N3T 3G8\, Canada
CATEGORIES:Counselling Services Group,Developmental Services Group
ATTACH;FMTTYPE=image/png:https://willowbridge.ca/wp-content/uploads/2023/02/1.png
ORGANIZER;CN="Willowbridge Community Services":MAILTO:welcome@willowbridge.ca
END:VEVENT
BEGIN:VEVENT
DTSTART;TZID=America/Toronto:20300430T123000
DTEND;TZID=America/Toronto:20300430T150000
DTSTAMP:20260422T201408
CREATED:20260202T135135Z
LAST-MODIFIED:20260422T143552Z
UID:10001955-1903782600-1903791600@willowbridge.ca
SUMMARY:Men's Counselling Link - Walk-In Session
DESCRIPTION:Free\, specialized walk-in single counselling sessions for men at risk of\, or who’ve engaged in challenging behaviours. Walk-in sessions are free\, 1.5 hours long and designed to be impactful\, helping you work toward building healthier relationships with yourself and others. \nAge Range: 16 years and older\nLocation: 54 Brant Ave.\, Brantford\nCost: Free!\nRegistration: No registration required. Just walk in! Appointments will be offered on a first come\, first served basis.
URL:https://willowbridge.ca/event/mens-counselling-link-walk-in-session-2/2030-04-30/
LOCATION:Willowbridge Community Services\, 54 Brant Avenue\, Brantford\, Ontario\, N3T 3G8\, Canada
CATEGORIES:Community Group
ATTACH;FMTTYPE=image/png:https://willowbridge.ca/wp-content/uploads/2025/10/4-3.png
END:VEVENT
BEGIN:VEVENT
DTSTART;TZID=America/Toronto:20300502T140000
DTEND;TZID=America/Toronto:20300502T150000
DTSTAMP:20260422T201408
CREATED:20230217T030713Z
LAST-MODIFIED:20260422T144450Z
UID:10002086-1903960800-1903964400@willowbridge.ca
SUMMARY:Games Group
DESCRIPTION:A mix of Bingo\, Pictionary\, and Trivia. Open to current Willowbridge participants. \n  \nTo register\, please contact:\nAmanda Downs \n905-741-4723 \nadowns@willowbridge.ca
URL:https://willowbridge.ca/event/games-group/2030-05-02/
LOCATION:Willowbridge Community Services\, 54 Brant Avenue\, Brantford\, Ontario\, N3T 3G8\, Canada
CATEGORIES:Counselling Services Group,Developmental Services Group
ATTACH;FMTTYPE=image/png:https://willowbridge.ca/wp-content/uploads/2023/02/1.png
ORGANIZER;CN="Willowbridge Community Services":MAILTO:welcome@willowbridge.ca
END:VEVENT
BEGIN:VEVENT
DTSTART;TZID=America/Toronto:20300509T140000
DTEND;TZID=America/Toronto:20300509T150000
DTSTAMP:20260422T201408
CREATED:20230217T030713Z
LAST-MODIFIED:20260422T144450Z
UID:10002087-1904565600-1904569200@willowbridge.ca
SUMMARY:Games Group
DESCRIPTION:A mix of Bingo\, Pictionary\, and Trivia. Open to current Willowbridge participants. \n  \nTo register\, please contact:\nAmanda Downs \n905-741-4723 \nadowns@willowbridge.ca
URL:https://willowbridge.ca/event/games-group/2030-05-09/
LOCATION:Willowbridge Community Services\, 54 Brant Avenue\, Brantford\, Ontario\, N3T 3G8\, Canada
CATEGORIES:Counselling Services Group,Developmental Services Group
ATTACH;FMTTYPE=image/png:https://willowbridge.ca/wp-content/uploads/2023/02/1.png
ORGANIZER;CN="Willowbridge Community Services":MAILTO:welcome@willowbridge.ca
END:VEVENT
BEGIN:VEVENT
DTSTART;TZID=America/Toronto:20300516T140000
DTEND;TZID=America/Toronto:20300516T150000
DTSTAMP:20260422T201408
CREATED:20230217T030713Z
LAST-MODIFIED:20260422T144450Z
UID:10002088-1905170400-1905174000@willowbridge.ca
SUMMARY:Games Group
DESCRIPTION:A mix of Bingo\, Pictionary\, and Trivia. Open to current Willowbridge participants. \n  \nTo register\, please contact:\nAmanda Downs \n905-741-4723 \nadowns@willowbridge.ca
URL:https://willowbridge.ca/event/games-group/2030-05-16/
LOCATION:Willowbridge Community Services\, 54 Brant Avenue\, Brantford\, Ontario\, N3T 3G8\, Canada
CATEGORIES:Counselling Services Group,Developmental Services Group
ATTACH;FMTTYPE=image/png:https://willowbridge.ca/wp-content/uploads/2023/02/1.png
ORGANIZER;CN="Willowbridge Community Services":MAILTO:welcome@willowbridge.ca
END:VEVENT
BEGIN:VEVENT
DTSTART;TZID=America/Toronto:20300523T140000
DTEND;TZID=America/Toronto:20300523T150000
DTSTAMP:20260422T201408
CREATED:20230217T030713Z
LAST-MODIFIED:20260422T144450Z
UID:10002089-1905775200-1905778800@willowbridge.ca
SUMMARY:Games Group
DESCRIPTION:A mix of Bingo\, Pictionary\, and Trivia. Open to current Willowbridge participants. \n  \nTo register\, please contact:\nAmanda Downs \n905-741-4723 \nadowns@willowbridge.ca
URL:https://willowbridge.ca/event/games-group/2030-05-23/
LOCATION:Willowbridge Community Services\, 54 Brant Avenue\, Brantford\, Ontario\, N3T 3G8\, Canada
CATEGORIES:Counselling Services Group,Developmental Services Group
ATTACH;FMTTYPE=image/png:https://willowbridge.ca/wp-content/uploads/2023/02/1.png
ORGANIZER;CN="Willowbridge Community Services":MAILTO:welcome@willowbridge.ca
END:VEVENT
BEGIN:VEVENT
DTSTART;TZID=America/Toronto:20300528T123000
DTEND;TZID=America/Toronto:20300528T150000
DTSTAMP:20260422T201408
CREATED:20260202T135135Z
LAST-MODIFIED:20260422T143552Z
UID:10001956-1906201800-1906210800@willowbridge.ca
SUMMARY:Men's Counselling Link - Walk-In Session
DESCRIPTION:Free\, specialized walk-in single counselling sessions for men at risk of\, or who’ve engaged in challenging behaviours. Walk-in sessions are free\, 1.5 hours long and designed to be impactful\, helping you work toward building healthier relationships with yourself and others. \nAge Range: 16 years and older\nLocation: 54 Brant Ave.\, Brantford\nCost: Free!\nRegistration: No registration required. Just walk in! Appointments will be offered on a first come\, first served basis.
URL:https://willowbridge.ca/event/mens-counselling-link-walk-in-session-2/2030-05-28/
LOCATION:Willowbridge Community Services\, 54 Brant Avenue\, Brantford\, Ontario\, N3T 3G8\, Canada
CATEGORIES:Community Group
ATTACH;FMTTYPE=image/png:https://willowbridge.ca/wp-content/uploads/2025/10/4-3.png
END:VEVENT
BEGIN:VEVENT
DTSTART;TZID=America/Toronto:20300530T140000
DTEND;TZID=America/Toronto:20300530T150000
DTSTAMP:20260422T201408
CREATED:20230217T030713Z
LAST-MODIFIED:20260422T144450Z
UID:10002090-1906380000-1906383600@willowbridge.ca
SUMMARY:Games Group
DESCRIPTION:A mix of Bingo\, Pictionary\, and Trivia. Open to current Willowbridge participants. \n  \nTo register\, please contact:\nAmanda Downs \n905-741-4723 \nadowns@willowbridge.ca
URL:https://willowbridge.ca/event/games-group/2030-05-30/
LOCATION:Willowbridge Community Services\, 54 Brant Avenue\, Brantford\, Ontario\, N3T 3G8\, Canada
CATEGORIES:Counselling Services Group,Developmental Services Group
ATTACH;FMTTYPE=image/png:https://willowbridge.ca/wp-content/uploads/2023/02/1.png
ORGANIZER;CN="Willowbridge Community Services":MAILTO:welcome@willowbridge.ca
END:VEVENT
BEGIN:VEVENT
DTSTART;TZID=America/Toronto:20300606T140000
DTEND;TZID=America/Toronto:20300606T150000
DTSTAMP:20260422T201408
CREATED:20230217T030713Z
LAST-MODIFIED:20260422T144450Z
UID:10002091-1906984800-1906988400@willowbridge.ca
SUMMARY:Games Group
DESCRIPTION:A mix of Bingo\, Pictionary\, and Trivia. Open to current Willowbridge participants. \n  \nTo register\, please contact:\nAmanda Downs \n905-741-4723 \nadowns@willowbridge.ca
URL:https://willowbridge.ca/event/games-group/2030-06-06/
LOCATION:Willowbridge Community Services\, 54 Brant Avenue\, Brantford\, Ontario\, N3T 3G8\, Canada
CATEGORIES:Counselling Services Group,Developmental Services Group
ATTACH;FMTTYPE=image/png:https://willowbridge.ca/wp-content/uploads/2023/02/1.png
ORGANIZER;CN="Willowbridge Community Services":MAILTO:welcome@willowbridge.ca
END:VEVENT
BEGIN:VEVENT
DTSTART;TZID=America/Toronto:20300613T140000
DTEND;TZID=America/Toronto:20300613T150000
DTSTAMP:20260422T201408
CREATED:20230217T030713Z
LAST-MODIFIED:20260422T144450Z
UID:10002092-1907589600-1907593200@willowbridge.ca
SUMMARY:Games Group
DESCRIPTION:A mix of Bingo\, Pictionary\, and Trivia. Open to current Willowbridge participants. \n  \nTo register\, please contact:\nAmanda Downs \n905-741-4723 \nadowns@willowbridge.ca
URL:https://willowbridge.ca/event/games-group/2030-06-13/
LOCATION:Willowbridge Community Services\, 54 Brant Avenue\, Brantford\, Ontario\, N3T 3G8\, Canada
CATEGORIES:Counselling Services Group,Developmental Services Group
ATTACH;FMTTYPE=image/png:https://willowbridge.ca/wp-content/uploads/2023/02/1.png
ORGANIZER;CN="Willowbridge Community Services":MAILTO:welcome@willowbridge.ca
END:VEVENT
END:VCALENDAR