BEGIN:VCALENDAR
VERSION:2.0
PRODID:-//Willowbridge - ECPv6.15.20//NONSGML v1.0//EN
CALSCALE:GREGORIAN
METHOD:PUBLISH
X-ORIGINAL-URL:https://willowbridge.ca
X-WR-CALDESC:Events for Willowbridge
REFRESH-INTERVAL;VALUE=DURATION:PT1H
X-Robots-Tag:noindex
X-PUBLISHED-TTL:PT1H
BEGIN:VTIMEZONE
TZID:America/Toronto
BEGIN:DAYLIGHT
TZOFFSETFROM:-0500
TZOFFSETTO:-0400
TZNAME:EDT
DTSTART:20290311T070000
END:DAYLIGHT
BEGIN:STANDARD
TZOFFSETFROM:-0400
TZOFFSETTO:-0500
TZNAME:EST
DTSTART:20291104T060000
END:STANDARD
BEGIN:DAYLIGHT
TZOFFSETFROM:-0500
TZOFFSETTO:-0400
TZNAME:EDT
DTSTART:20300310T070000
END:DAYLIGHT
BEGIN:STANDARD
TZOFFSETFROM:-0400
TZOFFSETTO:-0500
TZNAME:EST
DTSTART:20301103T060000
END:STANDARD
BEGIN:DAYLIGHT
TZOFFSETFROM:-0500
TZOFFSETTO:-0400
TZNAME:EDT
DTSTART:20310309T070000
END:DAYLIGHT
BEGIN:STANDARD
TZOFFSETFROM:-0400
TZOFFSETTO:-0500
TZNAME:EST
DTSTART:20311102T060000
END:STANDARD
BEGIN:DAYLIGHT
TZOFFSETFROM:-0500
TZOFFSETTO:-0400
TZNAME:EDT
DTSTART:20320314T070000
END:DAYLIGHT
BEGIN:STANDARD
TZOFFSETFROM:-0400
TZOFFSETTO:-0500
TZNAME:EST
DTSTART:20321107T060000
END:STANDARD
END:VTIMEZONE
BEGIN:VEVENT
DTSTART;TZID=America/Toronto:20300926T140000
DTEND;TZID=America/Toronto:20300926T150000
DTSTAMP:20260423T065850
CREATED:20230217T030713Z
LAST-MODIFIED:20260422T144450Z
UID:10002107-1916661600-1916665200@willowbridge.ca
SUMMARY:Games Group
DESCRIPTION:A mix of Bingo\, Pictionary\, and Trivia. Open to current Willowbridge participants. \n  \nTo register\, please contact:\nAmanda Downs \n905-741-4723 \nadowns@willowbridge.ca
URL:https://willowbridge.ca/event/games-group/2030-09-26/
LOCATION:Willowbridge Community Services\, 54 Brant Avenue\, Brantford\, Ontario\, N3T 3G8\, Canada
CATEGORIES:Counselling Services Group,Developmental Services Group
ATTACH;FMTTYPE=image/png:https://willowbridge.ca/wp-content/uploads/2023/02/1.png
ORGANIZER;CN="Willowbridge Community Services":MAILTO:welcome@willowbridge.ca
END:VEVENT
BEGIN:VEVENT
DTSTART;TZID=America/Toronto:20301003T140000
DTEND;TZID=America/Toronto:20301003T150000
DTSTAMP:20260423T065850
CREATED:20230217T030713Z
LAST-MODIFIED:20260422T144450Z
UID:10002108-1917266400-1917270000@willowbridge.ca
SUMMARY:Games Group
DESCRIPTION:A mix of Bingo\, Pictionary\, and Trivia. Open to current Willowbridge participants. \n  \nTo register\, please contact:\nAmanda Downs \n905-741-4723 \nadowns@willowbridge.ca
URL:https://willowbridge.ca/event/games-group/2030-10-03/
LOCATION:Willowbridge Community Services\, 54 Brant Avenue\, Brantford\, Ontario\, N3T 3G8\, Canada
CATEGORIES:Counselling Services Group,Developmental Services Group
ATTACH;FMTTYPE=image/png:https://willowbridge.ca/wp-content/uploads/2023/02/1.png
ORGANIZER;CN="Willowbridge Community Services":MAILTO:welcome@willowbridge.ca
END:VEVENT
BEGIN:VEVENT
DTSTART;TZID=America/Toronto:20301010T140000
DTEND;TZID=America/Toronto:20301010T150000
DTSTAMP:20260423T065850
CREATED:20230217T030713Z
LAST-MODIFIED:20260422T144450Z
UID:10002109-1917871200-1917874800@willowbridge.ca
SUMMARY:Games Group
DESCRIPTION:A mix of Bingo\, Pictionary\, and Trivia. Open to current Willowbridge participants. \n  \nTo register\, please contact:\nAmanda Downs \n905-741-4723 \nadowns@willowbridge.ca
URL:https://willowbridge.ca/event/games-group/2030-10-10/
LOCATION:Willowbridge Community Services\, 54 Brant Avenue\, Brantford\, Ontario\, N3T 3G8\, Canada
CATEGORIES:Counselling Services Group,Developmental Services Group
ATTACH;FMTTYPE=image/png:https://willowbridge.ca/wp-content/uploads/2023/02/1.png
ORGANIZER;CN="Willowbridge Community Services":MAILTO:welcome@willowbridge.ca
END:VEVENT
BEGIN:VEVENT
DTSTART;TZID=America/Toronto:20301017T140000
DTEND;TZID=America/Toronto:20301017T150000
DTSTAMP:20260423T065850
CREATED:20230217T030713Z
LAST-MODIFIED:20260422T144450Z
UID:10002110-1918476000-1918479600@willowbridge.ca
SUMMARY:Games Group
DESCRIPTION:A mix of Bingo\, Pictionary\, and Trivia. Open to current Willowbridge participants. \n  \nTo register\, please contact:\nAmanda Downs \n905-741-4723 \nadowns@willowbridge.ca
URL:https://willowbridge.ca/event/games-group/2030-10-17/
LOCATION:Willowbridge Community Services\, 54 Brant Avenue\, Brantford\, Ontario\, N3T 3G8\, Canada
CATEGORIES:Counselling Services Group,Developmental Services Group
ATTACH;FMTTYPE=image/png:https://willowbridge.ca/wp-content/uploads/2023/02/1.png
ORGANIZER;CN="Willowbridge Community Services":MAILTO:welcome@willowbridge.ca
END:VEVENT
BEGIN:VEVENT
DTSTART;TZID=America/Toronto:20301024T140000
DTEND;TZID=America/Toronto:20301024T150000
DTSTAMP:20260423T065850
CREATED:20230217T030713Z
LAST-MODIFIED:20260422T144450Z
UID:10002111-1919080800-1919084400@willowbridge.ca
SUMMARY:Games Group
DESCRIPTION:A mix of Bingo\, Pictionary\, and Trivia. Open to current Willowbridge participants. \n  \nTo register\, please contact:\nAmanda Downs \n905-741-4723 \nadowns@willowbridge.ca
URL:https://willowbridge.ca/event/games-group/2030-10-24/
LOCATION:Willowbridge Community Services\, 54 Brant Avenue\, Brantford\, Ontario\, N3T 3G8\, Canada
CATEGORIES:Counselling Services Group,Developmental Services Group
ATTACH;FMTTYPE=image/png:https://willowbridge.ca/wp-content/uploads/2023/02/1.png
ORGANIZER;CN="Willowbridge Community Services":MAILTO:welcome@willowbridge.ca
END:VEVENT
BEGIN:VEVENT
DTSTART;TZID=America/Toronto:20301029T123000
DTEND;TZID=America/Toronto:20301029T150000
DTSTAMP:20260423T065850
CREATED:20260202T135135Z
LAST-MODIFIED:20260422T143552Z
UID:10001961-1919507400-1919516400@willowbridge.ca
SUMMARY:Men's Counselling Link - Walk-In Session
DESCRIPTION:Free\, specialized walk-in single counselling sessions for men at risk of\, or who’ve engaged in challenging behaviours. Walk-in sessions are free\, 1.5 hours long and designed to be impactful\, helping you work toward building healthier relationships with yourself and others. \nAge Range: 16 years and older\nLocation: 54 Brant Ave.\, Brantford\nCost: Free!\nRegistration: No registration required. Just walk in! Appointments will be offered on a first come\, first served basis.
URL:https://willowbridge.ca/event/mens-counselling-link-walk-in-session-2/2030-10-29/
LOCATION:Willowbridge Community Services\, 54 Brant Avenue\, Brantford\, Ontario\, N3T 3G8\, Canada
CATEGORIES:Community Group
ATTACH;FMTTYPE=image/png:https://willowbridge.ca/wp-content/uploads/2025/10/4-3.png
END:VEVENT
BEGIN:VEVENT
DTSTART;TZID=America/Toronto:20301031T140000
DTEND;TZID=America/Toronto:20301031T150000
DTSTAMP:20260423T065850
CREATED:20230217T030713Z
LAST-MODIFIED:20260422T144450Z
UID:10002112-1919685600-1919689200@willowbridge.ca
SUMMARY:Games Group
DESCRIPTION:A mix of Bingo\, Pictionary\, and Trivia. Open to current Willowbridge participants. \n  \nTo register\, please contact:\nAmanda Downs \n905-741-4723 \nadowns@willowbridge.ca
URL:https://willowbridge.ca/event/games-group/2030-10-31/
LOCATION:Willowbridge Community Services\, 54 Brant Avenue\, Brantford\, Ontario\, N3T 3G8\, Canada
CATEGORIES:Counselling Services Group,Developmental Services Group
ATTACH;FMTTYPE=image/png:https://willowbridge.ca/wp-content/uploads/2023/02/1.png
ORGANIZER;CN="Willowbridge Community Services":MAILTO:welcome@willowbridge.ca
END:VEVENT
BEGIN:VEVENT
DTSTART;TZID=America/Toronto:20301107T140000
DTEND;TZID=America/Toronto:20301107T150000
DTSTAMP:20260423T065850
CREATED:20230217T030713Z
LAST-MODIFIED:20260422T144450Z
UID:10002113-1920290400-1920294000@willowbridge.ca
SUMMARY:Games Group
DESCRIPTION:A mix of Bingo\, Pictionary\, and Trivia. Open to current Willowbridge participants. \n  \nTo register\, please contact:\nAmanda Downs \n905-741-4723 \nadowns@willowbridge.ca
URL:https://willowbridge.ca/event/games-group/2030-11-07/
LOCATION:Willowbridge Community Services\, 54 Brant Avenue\, Brantford\, Ontario\, N3T 3G8\, Canada
CATEGORIES:Counselling Services Group,Developmental Services Group
ATTACH;FMTTYPE=image/png:https://willowbridge.ca/wp-content/uploads/2023/02/1.png
ORGANIZER;CN="Willowbridge Community Services":MAILTO:welcome@willowbridge.ca
END:VEVENT
BEGIN:VEVENT
DTSTART;TZID=America/Toronto:20301114T140000
DTEND;TZID=America/Toronto:20301114T150000
DTSTAMP:20260423T065850
CREATED:20230217T030713Z
LAST-MODIFIED:20260422T144450Z
UID:10002114-1920895200-1920898800@willowbridge.ca
SUMMARY:Games Group
DESCRIPTION:A mix of Bingo\, Pictionary\, and Trivia. Open to current Willowbridge participants. \n  \nTo register\, please contact:\nAmanda Downs \n905-741-4723 \nadowns@willowbridge.ca
URL:https://willowbridge.ca/event/games-group/2030-11-14/
LOCATION:Willowbridge Community Services\, 54 Brant Avenue\, Brantford\, Ontario\, N3T 3G8\, Canada
CATEGORIES:Counselling Services Group,Developmental Services Group
ATTACH;FMTTYPE=image/png:https://willowbridge.ca/wp-content/uploads/2023/02/1.png
ORGANIZER;CN="Willowbridge Community Services":MAILTO:welcome@willowbridge.ca
END:VEVENT
BEGIN:VEVENT
DTSTART;TZID=America/Toronto:20301121T140000
DTEND;TZID=America/Toronto:20301121T150000
DTSTAMP:20260423T065850
CREATED:20230217T030713Z
LAST-MODIFIED:20260422T144450Z
UID:10002115-1921500000-1921503600@willowbridge.ca
SUMMARY:Games Group
DESCRIPTION:A mix of Bingo\, Pictionary\, and Trivia. Open to current Willowbridge participants. \n  \nTo register\, please contact:\nAmanda Downs \n905-741-4723 \nadowns@willowbridge.ca
URL:https://willowbridge.ca/event/games-group/2030-11-21/
LOCATION:Willowbridge Community Services\, 54 Brant Avenue\, Brantford\, Ontario\, N3T 3G8\, Canada
CATEGORIES:Counselling Services Group,Developmental Services Group
ATTACH;FMTTYPE=image/png:https://willowbridge.ca/wp-content/uploads/2023/02/1.png
ORGANIZER;CN="Willowbridge Community Services":MAILTO:welcome@willowbridge.ca
END:VEVENT
BEGIN:VEVENT
DTSTART;TZID=America/Toronto:20301126T123000
DTEND;TZID=America/Toronto:20301126T150000
DTSTAMP:20260423T065850
CREATED:20260202T135135Z
LAST-MODIFIED:20260422T143552Z
UID:10001962-1921926600-1921935600@willowbridge.ca
SUMMARY:Men's Counselling Link - Walk-In Session
DESCRIPTION:Free\, specialized walk-in single counselling sessions for men at risk of\, or who’ve engaged in challenging behaviours. Walk-in sessions are free\, 1.5 hours long and designed to be impactful\, helping you work toward building healthier relationships with yourself and others. \nAge Range: 16 years and older\nLocation: 54 Brant Ave.\, Brantford\nCost: Free!\nRegistration: No registration required. Just walk in! Appointments will be offered on a first come\, first served basis.
URL:https://willowbridge.ca/event/mens-counselling-link-walk-in-session-2/2030-11-26/
LOCATION:Willowbridge Community Services\, 54 Brant Avenue\, Brantford\, Ontario\, N3T 3G8\, Canada
CATEGORIES:Community Group
ATTACH;FMTTYPE=image/png:https://willowbridge.ca/wp-content/uploads/2025/10/4-3.png
END:VEVENT
BEGIN:VEVENT
DTSTART;TZID=America/Toronto:20301128T140000
DTEND;TZID=America/Toronto:20301128T150000
DTSTAMP:20260423T065850
CREATED:20230217T030713Z
LAST-MODIFIED:20260422T144450Z
UID:10002116-1922104800-1922108400@willowbridge.ca
SUMMARY:Games Group
DESCRIPTION:A mix of Bingo\, Pictionary\, and Trivia. Open to current Willowbridge participants. \n  \nTo register\, please contact:\nAmanda Downs \n905-741-4723 \nadowns@willowbridge.ca
URL:https://willowbridge.ca/event/games-group/2030-11-28/
LOCATION:Willowbridge Community Services\, 54 Brant Avenue\, Brantford\, Ontario\, N3T 3G8\, Canada
CATEGORIES:Counselling Services Group,Developmental Services Group
ATTACH;FMTTYPE=image/png:https://willowbridge.ca/wp-content/uploads/2023/02/1.png
ORGANIZER;CN="Willowbridge Community Services":MAILTO:welcome@willowbridge.ca
END:VEVENT
BEGIN:VEVENT
DTSTART;TZID=America/Toronto:20301205T140000
DTEND;TZID=America/Toronto:20301205T150000
DTSTAMP:20260423T065850
CREATED:20230217T030713Z
LAST-MODIFIED:20260422T144450Z
UID:10002117-1922709600-1922713200@willowbridge.ca
SUMMARY:Games Group
DESCRIPTION:A mix of Bingo\, Pictionary\, and Trivia. Open to current Willowbridge participants. \n  \nTo register\, please contact:\nAmanda Downs \n905-741-4723 \nadowns@willowbridge.ca
URL:https://willowbridge.ca/event/games-group/2030-12-05/
LOCATION:Willowbridge Community Services\, 54 Brant Avenue\, Brantford\, Ontario\, N3T 3G8\, Canada
CATEGORIES:Counselling Services Group,Developmental Services Group
ATTACH;FMTTYPE=image/png:https://willowbridge.ca/wp-content/uploads/2023/02/1.png
ORGANIZER;CN="Willowbridge Community Services":MAILTO:welcome@willowbridge.ca
END:VEVENT
BEGIN:VEVENT
DTSTART;TZID=America/Toronto:20301212T140000
DTEND;TZID=America/Toronto:20301212T150000
DTSTAMP:20260423T065850
CREATED:20230217T030713Z
LAST-MODIFIED:20260422T144450Z
UID:10002118-1923314400-1923318000@willowbridge.ca
SUMMARY:Games Group
DESCRIPTION:A mix of Bingo\, Pictionary\, and Trivia. Open to current Willowbridge participants. \n  \nTo register\, please contact:\nAmanda Downs \n905-741-4723 \nadowns@willowbridge.ca
URL:https://willowbridge.ca/event/games-group/2030-12-12/
LOCATION:Willowbridge Community Services\, 54 Brant Avenue\, Brantford\, Ontario\, N3T 3G8\, Canada
CATEGORIES:Counselling Services Group,Developmental Services Group
ATTACH;FMTTYPE=image/png:https://willowbridge.ca/wp-content/uploads/2023/02/1.png
ORGANIZER;CN="Willowbridge Community Services":MAILTO:welcome@willowbridge.ca
END:VEVENT
BEGIN:VEVENT
DTSTART;TZID=America/Toronto:20301219T140000
DTEND;TZID=America/Toronto:20301219T150000
DTSTAMP:20260423T065850
CREATED:20230217T030713Z
LAST-MODIFIED:20260422T144450Z
UID:10002119-1923919200-1923922800@willowbridge.ca
SUMMARY:Games Group
DESCRIPTION:A mix of Bingo\, Pictionary\, and Trivia. Open to current Willowbridge participants. \n  \nTo register\, please contact:\nAmanda Downs \n905-741-4723 \nadowns@willowbridge.ca
URL:https://willowbridge.ca/event/games-group/2030-12-19/
LOCATION:Willowbridge Community Services\, 54 Brant Avenue\, Brantford\, Ontario\, N3T 3G8\, Canada
CATEGORIES:Counselling Services Group,Developmental Services Group
ATTACH;FMTTYPE=image/png:https://willowbridge.ca/wp-content/uploads/2023/02/1.png
ORGANIZER;CN="Willowbridge Community Services":MAILTO:welcome@willowbridge.ca
END:VEVENT
BEGIN:VEVENT
DTSTART;TZID=America/Toronto:20301226T140000
DTEND;TZID=America/Toronto:20301226T150000
DTSTAMP:20260423T065850
CREATED:20230217T030713Z
LAST-MODIFIED:20260422T144450Z
UID:10002120-1924524000-1924527600@willowbridge.ca
SUMMARY:Games Group
DESCRIPTION:A mix of Bingo\, Pictionary\, and Trivia. Open to current Willowbridge participants. \n  \nTo register\, please contact:\nAmanda Downs \n905-741-4723 \nadowns@willowbridge.ca
URL:https://willowbridge.ca/event/games-group/2030-12-26/
LOCATION:Willowbridge Community Services\, 54 Brant Avenue\, Brantford\, Ontario\, N3T 3G8\, Canada
CATEGORIES:Counselling Services Group,Developmental Services Group
ATTACH;FMTTYPE=image/png:https://willowbridge.ca/wp-content/uploads/2023/02/1.png
ORGANIZER;CN="Willowbridge Community Services":MAILTO:welcome@willowbridge.ca
END:VEVENT
BEGIN:VEVENT
DTSTART;TZID=America/Toronto:20301231T123000
DTEND;TZID=America/Toronto:20301231T150000
DTSTAMP:20260423T065850
CREATED:20260202T135135Z
LAST-MODIFIED:20260422T143552Z
UID:10001963-1924950600-1924959600@willowbridge.ca
SUMMARY:Men's Counselling Link - Walk-In Session
DESCRIPTION:Free\, specialized walk-in single counselling sessions for men at risk of\, or who’ve engaged in challenging behaviours. Walk-in sessions are free\, 1.5 hours long and designed to be impactful\, helping you work toward building healthier relationships with yourself and others. \nAge Range: 16 years and older\nLocation: 54 Brant Ave.\, Brantford\nCost: Free!\nRegistration: No registration required. Just walk in! Appointments will be offered on a first come\, first served basis.
URL:https://willowbridge.ca/event/mens-counselling-link-walk-in-session-2/2030-12-31/
LOCATION:Willowbridge Community Services\, 54 Brant Avenue\, Brantford\, Ontario\, N3T 3G8\, Canada
CATEGORIES:Community Group
ATTACH;FMTTYPE=image/png:https://willowbridge.ca/wp-content/uploads/2025/10/4-3.png
END:VEVENT
BEGIN:VEVENT
DTSTART;TZID=America/Toronto:20310102T140000
DTEND;TZID=America/Toronto:20310102T150000
DTSTAMP:20260423T065850
CREATED:20230217T030713Z
LAST-MODIFIED:20260422T144450Z
UID:10002121-1925128800-1925132400@willowbridge.ca
SUMMARY:Games Group
DESCRIPTION:A mix of Bingo\, Pictionary\, and Trivia. Open to current Willowbridge participants. \n  \nTo register\, please contact:\nAmanda Downs \n905-741-4723 \nadowns@willowbridge.ca
URL:https://willowbridge.ca/event/games-group/2031-01-02/
LOCATION:Willowbridge Community Services\, 54 Brant Avenue\, Brantford\, Ontario\, N3T 3G8\, Canada
CATEGORIES:Counselling Services Group,Developmental Services Group
ATTACH;FMTTYPE=image/png:https://willowbridge.ca/wp-content/uploads/2023/02/1.png
ORGANIZER;CN="Willowbridge Community Services":MAILTO:welcome@willowbridge.ca
END:VEVENT
BEGIN:VEVENT
DTSTART;TZID=America/Toronto:20310109T140000
DTEND;TZID=America/Toronto:20310109T150000
DTSTAMP:20260423T065850
CREATED:20230217T030713Z
LAST-MODIFIED:20260422T144450Z
UID:10002122-1925733600-1925737200@willowbridge.ca
SUMMARY:Games Group
DESCRIPTION:A mix of Bingo\, Pictionary\, and Trivia. Open to current Willowbridge participants. \n  \nTo register\, please contact:\nAmanda Downs \n905-741-4723 \nadowns@willowbridge.ca
URL:https://willowbridge.ca/event/games-group/2031-01-09/
LOCATION:Willowbridge Community Services\, 54 Brant Avenue\, Brantford\, Ontario\, N3T 3G8\, Canada
CATEGORIES:Counselling Services Group,Developmental Services Group
ATTACH;FMTTYPE=image/png:https://willowbridge.ca/wp-content/uploads/2023/02/1.png
ORGANIZER;CN="Willowbridge Community Services":MAILTO:welcome@willowbridge.ca
END:VEVENT
BEGIN:VEVENT
DTSTART;TZID=America/Toronto:20310116T140000
DTEND;TZID=America/Toronto:20310116T150000
DTSTAMP:20260423T065850
CREATED:20230217T030713Z
LAST-MODIFIED:20260422T144450Z
UID:10002123-1926338400-1926342000@willowbridge.ca
SUMMARY:Games Group
DESCRIPTION:A mix of Bingo\, Pictionary\, and Trivia. Open to current Willowbridge participants. \n  \nTo register\, please contact:\nAmanda Downs \n905-741-4723 \nadowns@willowbridge.ca
URL:https://willowbridge.ca/event/games-group/2031-01-16/
LOCATION:Willowbridge Community Services\, 54 Brant Avenue\, Brantford\, Ontario\, N3T 3G8\, Canada
CATEGORIES:Counselling Services Group,Developmental Services Group
ATTACH;FMTTYPE=image/png:https://willowbridge.ca/wp-content/uploads/2023/02/1.png
ORGANIZER;CN="Willowbridge Community Services":MAILTO:welcome@willowbridge.ca
END:VEVENT
BEGIN:VEVENT
DTSTART;TZID=America/Toronto:20310123T140000
DTEND;TZID=America/Toronto:20310123T150000
DTSTAMP:20260423T065850
CREATED:20230217T030713Z
LAST-MODIFIED:20260422T144450Z
UID:10002124-1926943200-1926946800@willowbridge.ca
SUMMARY:Games Group
DESCRIPTION:A mix of Bingo\, Pictionary\, and Trivia. Open to current Willowbridge participants. \n  \nTo register\, please contact:\nAmanda Downs \n905-741-4723 \nadowns@willowbridge.ca
URL:https://willowbridge.ca/event/games-group/2031-01-23/
LOCATION:Willowbridge Community Services\, 54 Brant Avenue\, Brantford\, Ontario\, N3T 3G8\, Canada
CATEGORIES:Counselling Services Group,Developmental Services Group
ATTACH;FMTTYPE=image/png:https://willowbridge.ca/wp-content/uploads/2023/02/1.png
ORGANIZER;CN="Willowbridge Community Services":MAILTO:welcome@willowbridge.ca
END:VEVENT
BEGIN:VEVENT
DTSTART;TZID=America/Toronto:20310128T123000
DTEND;TZID=America/Toronto:20310128T150000
DTSTAMP:20260423T065850
CREATED:20260202T135135Z
LAST-MODIFIED:20260422T143552Z
UID:10001964-1927369800-1927378800@willowbridge.ca
SUMMARY:Men's Counselling Link - Walk-In Session
DESCRIPTION:Free\, specialized walk-in single counselling sessions for men at risk of\, or who’ve engaged in challenging behaviours. Walk-in sessions are free\, 1.5 hours long and designed to be impactful\, helping you work toward building healthier relationships with yourself and others. \nAge Range: 16 years and older\nLocation: 54 Brant Ave.\, Brantford\nCost: Free!\nRegistration: No registration required. Just walk in! Appointments will be offered on a first come\, first served basis.
URL:https://willowbridge.ca/event/mens-counselling-link-walk-in-session-2/2031-01-28/
LOCATION:Willowbridge Community Services\, 54 Brant Avenue\, Brantford\, Ontario\, N3T 3G8\, Canada
CATEGORIES:Community Group
ATTACH;FMTTYPE=image/png:https://willowbridge.ca/wp-content/uploads/2025/10/4-3.png
END:VEVENT
BEGIN:VEVENT
DTSTART;TZID=America/Toronto:20310130T140000
DTEND;TZID=America/Toronto:20310130T150000
DTSTAMP:20260423T065850
CREATED:20230217T030713Z
LAST-MODIFIED:20260422T144450Z
UID:10002125-1927548000-1927551600@willowbridge.ca
SUMMARY:Games Group
DESCRIPTION:A mix of Bingo\, Pictionary\, and Trivia. Open to current Willowbridge participants. \n  \nTo register\, please contact:\nAmanda Downs \n905-741-4723 \nadowns@willowbridge.ca
URL:https://willowbridge.ca/event/games-group/2031-01-30/
LOCATION:Willowbridge Community Services\, 54 Brant Avenue\, Brantford\, Ontario\, N3T 3G8\, Canada
CATEGORIES:Counselling Services Group,Developmental Services Group
ATTACH;FMTTYPE=image/png:https://willowbridge.ca/wp-content/uploads/2023/02/1.png
ORGANIZER;CN="Willowbridge Community Services":MAILTO:welcome@willowbridge.ca
END:VEVENT
BEGIN:VEVENT
DTSTART;TZID=America/Toronto:20310206T140000
DTEND;TZID=America/Toronto:20310206T150000
DTSTAMP:20260423T065850
CREATED:20230217T030713Z
LAST-MODIFIED:20260422T144450Z
UID:10002126-1928152800-1928156400@willowbridge.ca
SUMMARY:Games Group
DESCRIPTION:A mix of Bingo\, Pictionary\, and Trivia. Open to current Willowbridge participants. \n  \nTo register\, please contact:\nAmanda Downs \n905-741-4723 \nadowns@willowbridge.ca
URL:https://willowbridge.ca/event/games-group/2031-02-06/
LOCATION:Willowbridge Community Services\, 54 Brant Avenue\, Brantford\, Ontario\, N3T 3G8\, Canada
CATEGORIES:Counselling Services Group,Developmental Services Group
ATTACH;FMTTYPE=image/png:https://willowbridge.ca/wp-content/uploads/2023/02/1.png
ORGANIZER;CN="Willowbridge Community Services":MAILTO:welcome@willowbridge.ca
END:VEVENT
BEGIN:VEVENT
DTSTART;TZID=America/Toronto:20310213T140000
DTEND;TZID=America/Toronto:20310213T150000
DTSTAMP:20260423T065850
CREATED:20230217T030713Z
LAST-MODIFIED:20260422T144450Z
UID:10002127-1928757600-1928761200@willowbridge.ca
SUMMARY:Games Group
DESCRIPTION:A mix of Bingo\, Pictionary\, and Trivia. Open to current Willowbridge participants. \n  \nTo register\, please contact:\nAmanda Downs \n905-741-4723 \nadowns@willowbridge.ca
URL:https://willowbridge.ca/event/games-group/2031-02-13/
LOCATION:Willowbridge Community Services\, 54 Brant Avenue\, Brantford\, Ontario\, N3T 3G8\, Canada
CATEGORIES:Counselling Services Group,Developmental Services Group
ATTACH;FMTTYPE=image/png:https://willowbridge.ca/wp-content/uploads/2023/02/1.png
ORGANIZER;CN="Willowbridge Community Services":MAILTO:welcome@willowbridge.ca
END:VEVENT
BEGIN:VEVENT
DTSTART;TZID=America/Toronto:20310220T140000
DTEND;TZID=America/Toronto:20310220T150000
DTSTAMP:20260423T065850
CREATED:20230217T030713Z
LAST-MODIFIED:20260422T144450Z
UID:10002128-1929362400-1929366000@willowbridge.ca
SUMMARY:Games Group
DESCRIPTION:A mix of Bingo\, Pictionary\, and Trivia. Open to current Willowbridge participants. \n  \nTo register\, please contact:\nAmanda Downs \n905-741-4723 \nadowns@willowbridge.ca
URL:https://willowbridge.ca/event/games-group/2031-02-20/
LOCATION:Willowbridge Community Services\, 54 Brant Avenue\, Brantford\, Ontario\, N3T 3G8\, Canada
CATEGORIES:Counselling Services Group,Developmental Services Group
ATTACH;FMTTYPE=image/png:https://willowbridge.ca/wp-content/uploads/2023/02/1.png
ORGANIZER;CN="Willowbridge Community Services":MAILTO:welcome@willowbridge.ca
END:VEVENT
BEGIN:VEVENT
DTSTART;TZID=America/Toronto:20310225T123000
DTEND;TZID=America/Toronto:20310225T150000
DTSTAMP:20260423T065850
CREATED:20260202T135135Z
LAST-MODIFIED:20260422T143552Z
UID:10002054-1929789000-1929798000@willowbridge.ca
SUMMARY:Men's Counselling Link - Walk-In Session
DESCRIPTION:Free\, specialized walk-in single counselling sessions for men at risk of\, or who’ve engaged in challenging behaviours. Walk-in sessions are free\, 1.5 hours long and designed to be impactful\, helping you work toward building healthier relationships with yourself and others. \nAge Range: 16 years and older\nLocation: 54 Brant Ave.\, Brantford\nCost: Free!\nRegistration: No registration required. Just walk in! Appointments will be offered on a first come\, first served basis.
URL:https://willowbridge.ca/event/mens-counselling-link-walk-in-session-2/2031-02-25/
LOCATION:Willowbridge Community Services\, 54 Brant Avenue\, Brantford\, Ontario\, N3T 3G8\, Canada
CATEGORIES:Community Group
ATTACH;FMTTYPE=image/png:https://willowbridge.ca/wp-content/uploads/2025/10/4-3.png
END:VEVENT
BEGIN:VEVENT
DTSTART;TZID=America/Toronto:20310227T140000
DTEND;TZID=America/Toronto:20310227T150000
DTSTAMP:20260423T065850
CREATED:20230217T030713Z
LAST-MODIFIED:20260422T144450Z
UID:10002129-1929967200-1929970800@willowbridge.ca
SUMMARY:Games Group
DESCRIPTION:A mix of Bingo\, Pictionary\, and Trivia. Open to current Willowbridge participants. \n  \nTo register\, please contact:\nAmanda Downs \n905-741-4723 \nadowns@willowbridge.ca
URL:https://willowbridge.ca/event/games-group/2031-02-27/
LOCATION:Willowbridge Community Services\, 54 Brant Avenue\, Brantford\, Ontario\, N3T 3G8\, Canada
CATEGORIES:Counselling Services Group,Developmental Services Group
ATTACH;FMTTYPE=image/png:https://willowbridge.ca/wp-content/uploads/2023/02/1.png
ORGANIZER;CN="Willowbridge Community Services":MAILTO:welcome@willowbridge.ca
END:VEVENT
BEGIN:VEVENT
DTSTART;TZID=America/Toronto:20310306T140000
DTEND;TZID=America/Toronto:20310306T150000
DTSTAMP:20260423T065850
CREATED:20230217T030713Z
LAST-MODIFIED:20260422T144450Z
UID:10002130-1930572000-1930575600@willowbridge.ca
SUMMARY:Games Group
DESCRIPTION:A mix of Bingo\, Pictionary\, and Trivia. Open to current Willowbridge participants. \n  \nTo register\, please contact:\nAmanda Downs \n905-741-4723 \nadowns@willowbridge.ca
URL:https://willowbridge.ca/event/games-group/2031-03-06/
LOCATION:Willowbridge Community Services\, 54 Brant Avenue\, Brantford\, Ontario\, N3T 3G8\, Canada
CATEGORIES:Counselling Services Group,Developmental Services Group
ATTACH;FMTTYPE=image/png:https://willowbridge.ca/wp-content/uploads/2023/02/1.png
ORGANIZER;CN="Willowbridge Community Services":MAILTO:welcome@willowbridge.ca
END:VEVENT
BEGIN:VEVENT
DTSTART;TZID=America/Toronto:20310313T140000
DTEND;TZID=America/Toronto:20310313T150000
DTSTAMP:20260423T065850
CREATED:20230217T030713Z
LAST-MODIFIED:20260422T144450Z
UID:10002131-1931176800-1931180400@willowbridge.ca
SUMMARY:Games Group
DESCRIPTION:A mix of Bingo\, Pictionary\, and Trivia. Open to current Willowbridge participants. \n  \nTo register\, please contact:\nAmanda Downs \n905-741-4723 \nadowns@willowbridge.ca
URL:https://willowbridge.ca/event/games-group/2031-03-13/
LOCATION:Willowbridge Community Services\, 54 Brant Avenue\, Brantford\, Ontario\, N3T 3G8\, Canada
CATEGORIES:Counselling Services Group,Developmental Services Group
ATTACH;FMTTYPE=image/png:https://willowbridge.ca/wp-content/uploads/2023/02/1.png
ORGANIZER;CN="Willowbridge Community Services":MAILTO:welcome@willowbridge.ca
END:VEVENT
END:VCALENDAR