BEGIN:VCALENDAR
VERSION:2.0
PRODID:-//Willowbridge - ECPv6.15.20//NONSGML v1.0//EN
CALSCALE:GREGORIAN
METHOD:PUBLISH
X-WR-CALNAME:Willowbridge
X-ORIGINAL-URL:https://willowbridge.ca
X-WR-CALDESC:Events for Willowbridge
REFRESH-INTERVAL;VALUE=DURATION:PT1H
X-Robots-Tag:noindex
X-PUBLISHED-TTL:PT1H
BEGIN:VTIMEZONE
TZID:America/Toronto
BEGIN:DAYLIGHT
TZOFFSETFROM:-0500
TZOFFSETTO:-0400
TZNAME:EDT
DTSTART:20240310T070000
END:DAYLIGHT
BEGIN:STANDARD
TZOFFSETFROM:-0400
TZOFFSETTO:-0500
TZNAME:EST
DTSTART:20241103T060000
END:STANDARD
BEGIN:DAYLIGHT
TZOFFSETFROM:-0500
TZOFFSETTO:-0400
TZNAME:EDT
DTSTART:20250309T070000
END:DAYLIGHT
BEGIN:STANDARD
TZOFFSETFROM:-0400
TZOFFSETTO:-0500
TZNAME:EST
DTSTART:20251102T060000
END:STANDARD
BEGIN:DAYLIGHT
TZOFFSETFROM:-0500
TZOFFSETTO:-0400
TZNAME:EDT
DTSTART:20260308T070000
END:DAYLIGHT
BEGIN:STANDARD
TZOFFSETFROM:-0400
TZOFFSETTO:-0500
TZNAME:EST
DTSTART:20261101T060000
END:STANDARD
END:VTIMEZONE
BEGIN:VEVENT
DTSTART;TZID=America/Toronto:20250930T133000
DTEND;TZID=America/Toronto:20250930T153000
DTSTAMP:20260423T043825
CREATED:20250908T125158Z
LAST-MODIFIED:20250908T125158Z
UID:10001439-1759239000-1759246200@willowbridge.ca
SUMMARY:Moving Beyond Grief
DESCRIPTION:Grief shows up in many different ways\, but you don’t have to go through it alone. If you’re coping with the loss of a loved one\, we’re here to support you as you work through difficult emotions and take steps toward healing. \nCo-developed by our counselling and developmental services teams\, we’ll provide strategies to help you find peace again. \nDate: September 30\, 2025Time: 1:30 P.M. to 3:30 P.M.\nAge Range: Developmental Services Adults Only\nLocation: Willowbridge – 54 Brant Ave.\nCost: Free!\nRegistration: To register\, contact Emily at estonemann@willowbridge.ca
URL:https://willowbridge.ca/event/moving-beyond-grief/
LOCATION:Willowbridge Community Services\, 54 Brant Avenue\, Brantford\, Ontario\, N3T 3G8\, Canada
CATEGORIES:Developmental Services Group
END:VEVENT
BEGIN:VEVENT
DTSTART;TZID=America/Toronto:20251002T100000
DTEND;TZID=America/Toronto:20251002T120000
DTSTAMP:20260423T043825
CREATED:20250724T195719Z
LAST-MODIFIED:20251020T193925Z
UID:10001412-1759399200-1759406400@willowbridge.ca
SUMMARY:HER - Your Power Your Safety
DESCRIPTION:You deserve respect\, safety and great relationships! Join HER — a free\, 8-week group for women (including trans and non-binary folk) aged 21+ with developmental disabilities who’ve been hurt\, treated badly or made to feel unsafe in their relationships. \nIn our group\, we’ll talk about: \n\nMaking friends\, exploring romance and trusting others\nSetting boundaries and saying no\nWhat safe and healthy relationships look like\n\nDate: Thursdays from September 18 to November 6Time: 10 a.m. to 12 p.m.Location: 141 Park S. N.\, Hamilton\nCost: Free!\nRegistration*: To register\, contact Elisha at 519.753.4173\, ext. 298 or emacwhirter@willowbridge.ca
URL:https://willowbridge.ca/event/her-group-fall-2025/2025-10-02/
LOCATION:Willowbridge Community Services – Hamilton Office\, 141 Park Street North\, Hamilton\, Ontario\, Canada
CATEGORIES:Community Group,Developmental Services Group
ATTACH;FMTTYPE=image/png:https://willowbridge.ca/wp-content/uploads/2025/07/Website-Banners.png
ORGANIZER;CN="Willowbridge Community Services":MAILTO:welcome@willowbridge.ca
END:VEVENT
BEGIN:VEVENT
DTSTART;TZID=America/Toronto:20251002T110000
DTEND;TZID=America/Toronto:20251002T120000
DTSTAMP:20260423T043825
CREATED:20250828T125731Z
LAST-MODIFIED:20251127T190050Z
UID:10001434-1759402800-1759406400@willowbridge.ca
SUMMARY:Move & Mingle
DESCRIPTION:Looking for a fun\, inclusive community? Move & Mingle is here for adults 18+ with developmental disabilities! We gather every two weeks to enjoy walks\, games\, and a chance to connect socially in a supportive environment. \nDate: September 4 to November 27 (every two weeks on Thursday)\, and December 11\nTime: 11 a.m. – 12 p.m.\nLocation: Williams Cafe\, 47 Discovery Dr\, Hamilton\, ON\nRegistration: To register\, fill out our registration form. \nJoin us every two weeks until November 27! \nFor questions\, reach out to Sarah at smcvey@willowbridge.ca or 289-659-1568.
URL:https://willowbridge.ca/event/move-and-mingle-fall-2025/2025-10-02/
LOCATION:Williams Cafe\, 47 Discovery Drive\, Hamilton\, ontario\, L8L 8K4\, Canada
CATEGORIES:Developmental Services Group
ATTACH;FMTTYPE=image/png:https://willowbridge.ca/wp-content/uploads/2024/11/Website-Event-Banners-12.png
ORGANIZER;CN="Willowbridge Community Services":MAILTO:welcome@willowbridge.ca
END:VEVENT
BEGIN:VEVENT
DTSTART;TZID=America/Toronto:20251002T140000
DTEND;TZID=America/Toronto:20251002T150000
DTSTAMP:20260423T043825
CREATED:20230217T030713Z
LAST-MODIFIED:20260422T144450Z
UID:10000672-1759413600-1759417200@willowbridge.ca
SUMMARY:Games Group
DESCRIPTION:A mix of Bingo\, Pictionary\, and Trivia. Open to current Willowbridge participants. \n  \nTo register\, please contact:\nAmanda Downs \n905-741-4723 \nadowns@willowbridge.ca
URL:https://willowbridge.ca/event/games-group/2025-10-02/
LOCATION:Willowbridge Community Services\, 54 Brant Avenue\, Brantford\, Ontario\, N3T 3G8\, Canada
CATEGORIES:Counselling Services Group,Developmental Services Group
ATTACH;FMTTYPE=image/png:https://willowbridge.ca/wp-content/uploads/2023/02/1.png
ORGANIZER;CN="Willowbridge Community Services":MAILTO:welcome@willowbridge.ca
END:VEVENT
END:VCALENDAR